BEGIN:VCALENDAR
VERSION:2.0
PRODID:-//St. James United Methodist Church - ECPv6.15.20//NONSGML v1.0//EN
CALSCALE:GREGORIAN
METHOD:PUBLISH
X-ORIGINAL-URL:https://stjamesbellevue.com
X-WR-CALDESC:Events for St. James United Methodist Church
REFRESH-INTERVAL;VALUE=DURATION:PT1H
X-Robots-Tag:noindex
X-PUBLISHED-TTL:PT1H
BEGIN:VTIMEZONE
TZID:America/Chicago
BEGIN:DAYLIGHT
TZOFFSETFROM:-0600
TZOFFSETTO:-0500
TZNAME:CDT
DTSTART:20250309T080000
END:DAYLIGHT
BEGIN:STANDARD
TZOFFSETFROM:-0500
TZOFFSETTO:-0600
TZNAME:CST
DTSTART:20251102T070000
END:STANDARD
BEGIN:DAYLIGHT
TZOFFSETFROM:-0600
TZOFFSETTO:-0500
TZNAME:CDT
DTSTART:20260308T080000
END:DAYLIGHT
BEGIN:STANDARD
TZOFFSETFROM:-0500
TZOFFSETTO:-0600
TZNAME:CST
DTSTART:20261101T070000
END:STANDARD
BEGIN:DAYLIGHT
TZOFFSETFROM:-0600
TZOFFSETTO:-0500
TZNAME:CDT
DTSTART:20270314T080000
END:DAYLIGHT
BEGIN:STANDARD
TZOFFSETFROM:-0500
TZOFFSETTO:-0600
TZNAME:CST
DTSTART:20271107T070000
END:STANDARD
END:VTIMEZONE
BEGIN:VEVENT
DTSTART;VALUE=DATE:20260416
DTEND;VALUE=DATE:20260419
DTSTAMP:20260425T140000
CREATED:20260409T002412Z
LAST-MODIFIED:20260409T002958Z
UID:10012181-1776297600-1776556799@stjamesbellevue.com
SUMMARY:✨ St. James UMC Rummage Sale! ✨
DESCRIPTION:🛍️ Find Your Next Treasure! \nIt’s that time again! Donate your old treasures and discover something “new to you” at our annual St. James Rummage Sale. \n📍 Franklin Street Campus\nEnter through the back door to the Fellowship Hall Shopping carts available in the parking lot for easy treasure‑hunting \n🕒 Drop-Off Hours\n• Wed\, April 15 — 1 pm to 7 pm\n• Thu\, April 16 — 1 pm to 7 pm \n🛒 Shopping Times\n• Friends & Family: Thu\, April 16 — 5 pm to 7 pm\n• Open to All: Fri\, April 17 — 9 am to 6 pm\n• Clearance Sale: Sat\, April 18 — 8 am to Noon \n→ Most items just $5 per bag\n→ Large items half price \n🧹 Clean-Up: Sat\, April 18 at Noon \n🙋 Volunteers needed all hours!\nContact Jane Palmer (402‑689‑7445) or Marilyn Mikula (402‑319‑7138) to help. \nCome support the church\, bless others with your donations\, and find something wonderful to take home.
URL:https://stjamesbellevue.com/event/%e2%9c%a8-st-james-umc-rummage-sale-%e2%9c%a8/
LOCATION:St. James UMC Franklin Campus\, 1501 Franklin St\, Bellevue\, Nebraska\, 68005\, United States
END:VEVENT
BEGIN:VEVENT
DTSTART;TZID=America/Chicago:20260416T063000
DTEND;TZID=America/Chicago:20260416T080000
DTSTAMP:20260425T140000
CREATED:20250810T210729Z
LAST-MODIFIED:20251220T140353Z
UID:10000581-1776321000-1776326400@stjamesbellevue.com
SUMMARY:Men's Breakfast Bible Study
DESCRIPTION: 
URL:https://stjamesbellevue.com/event/mens-breakfast-bible-study/2026-04-16/
LOCATION:Lighthouse Cafe\, 119 W Mission Ave\, Bellevue\, Nebraska\, 68005\, United States
END:VEVENT
BEGIN:VEVENT
DTSTART;TZID=America/Chicago:20260416T130000
DTEND;TZID=America/Chicago:20260416T190000
DTSTAMP:20260425T140000
CREATED:20260406T012027Z
LAST-MODIFIED:20260409T002119Z
UID:10012180-1776344400-1776366000@stjamesbellevue.com
SUMMARY:Rummage Sale Drop Off
DESCRIPTION:
URL:https://stjamesbellevue.com/event/rummage-sale-drop-off/2026-04-16/
LOCATION:St. James UMC Franklin Campus\, 1501 Franklin St\, Bellevue\, Nebraska\, 68005\, United States
END:VEVENT
BEGIN:VEVENT
DTSTART;TZID=America/Chicago:20260416T190000
DTEND;TZID=America/Chicago:20260416T200000
DTSTAMP:20260425T140000
CREATED:20260204T000154Z
LAST-MODIFIED:20260204T000154Z
UID:10011172-1776366000-1776369600@stjamesbellevue.com
SUMMARY:AA Meeting
DESCRIPTION: 
URL:https://stjamesbellevue.com/event/aa-meeting-2/2026-04-16/
LOCATION:St. James UMC Franklin Campus\, 1501 Franklin St\, Bellevue\, Nebraska\, 68005\, United States
END:VEVENT
BEGIN:VEVENT
DTSTART;TZID=America/Chicago:20260416T190000
DTEND;TZID=America/Chicago:20260416T200000
DTSTAMP:20260425T140000
CREATED:20260318T230633Z
LAST-MODIFIED:20260318T230633Z
UID:10010912-1776366000-1776369600@stjamesbellevue.com
SUMMARY:Handbell Rehearsal
DESCRIPTION:  \n\n\n\n\n\n\n\n\n\n\n\n\n\n 
URL:https://stjamesbellevue.com/event/handbells-rehearsal-2/2026-04-16/
LOCATION:Nebraska
END:VEVENT
END:VCALENDAR