BEGIN:VCALENDAR
VERSION:2.0
PRODID:-//St. James United Methodist Church - ECPv6.15.20//NONSGML v1.0//EN
CALSCALE:GREGORIAN
METHOD:PUBLISH
X-WR-CALNAME:St. James United Methodist Church
X-ORIGINAL-URL:https://stjamesbellevue.com
X-WR-CALDESC:Events for St. James United Methodist Church
REFRESH-INTERVAL;VALUE=DURATION:PT1H
X-Robots-Tag:noindex
X-PUBLISHED-TTL:PT1H
BEGIN:VTIMEZONE
TZID:America/Chicago
BEGIN:DAYLIGHT
TZOFFSETFROM:-0600
TZOFFSETTO:-0500
TZNAME:CDT
DTSTART:20250309T080000
END:DAYLIGHT
BEGIN:STANDARD
TZOFFSETFROM:-0500
TZOFFSETTO:-0600
TZNAME:CST
DTSTART:20251102T070000
END:STANDARD
BEGIN:DAYLIGHT
TZOFFSETFROM:-0600
TZOFFSETTO:-0500
TZNAME:CDT
DTSTART:20260308T080000
END:DAYLIGHT
BEGIN:STANDARD
TZOFFSETFROM:-0500
TZOFFSETTO:-0600
TZNAME:CST
DTSTART:20261101T070000
END:STANDARD
BEGIN:DAYLIGHT
TZOFFSETFROM:-0600
TZOFFSETTO:-0500
TZNAME:CDT
DTSTART:20270314T080000
END:DAYLIGHT
BEGIN:STANDARD
TZOFFSETFROM:-0500
TZOFFSETTO:-0600
TZNAME:CST
DTSTART:20271107T070000
END:STANDARD
END:VTIMEZONE
BEGIN:VEVENT
DTSTART;TZID=America/Chicago:20260525T073000
DTEND;TZID=America/Chicago:20260525T081500
DTSTAMP:20260425T171910
CREATED:20251224T232948Z
LAST-MODIFIED:20260406T010515Z
UID:10002386-1779694200-1779696900@stjamesbellevue.com
SUMMARY:Devotions with Matt
DESCRIPTION:Each Monday morning\, a small group from St. James gathers with Pastor Matt at a local coffee shop for a time of spiritual reflection\, heartfelt conversation\, and community connection. What began as a simple devotional has become a meaningful ritual—a place where newcomers find welcome\, longtime members deepen relationships\, and the Spirit moves through shared stories and open dialogue. \nWhether you’re curious about faith\, seeking deeper connection\, or simply looking for a place to belong\, this gathering offers a gentle way to engage. It’s where questions are honored\, friendships are formed\, and God’s presence is felt in both quiet moments and lively discussion. For many\, it’s become a sacred start to the week—rooted in grace\, guided by scripture\, and enriched by the voices around the table. \nAll are welcome. Come as you are\, and see where the Spirit leads.
URL:https://stjamesbellevue.com/event/devotions-with-matt-3/2026-05-25/
LOCATION:Nebraska
END:VEVENT
BEGIN:VEVENT
DTSTART;TZID=America/Chicago:20260525T183000
DTEND;TZID=America/Chicago:20260525T193000
DTSTAMP:20260425T171910
CREATED:20260127T050232Z
LAST-MODIFIED:20260211T231602Z
UID:10011572-1779733800-1779737400@stjamesbellevue.com
SUMMARY:Outreach Committee Meeting
DESCRIPTION:
URL:https://stjamesbellevue.com/event/outreach-committee-meeting/2026-05-25/
LOCATION:St. James UMC Capehart Campus\, 4343 Capehart Road\, Bellevue\, NE 68123\, Nebraska\, 68123
END:VEVENT
BEGIN:VEVENT
DTSTART;TZID=America/Chicago:20260525T190000
DTEND;TZID=America/Chicago:20260525T200000
DTSTAMP:20260425T171910
CREATED:20260204T000154Z
LAST-MODIFIED:20260204T000154Z
UID:10001424-1779735600-1779739200@stjamesbellevue.com
SUMMARY:AA Meeting
DESCRIPTION: 
URL:https://stjamesbellevue.com/event/aa-meeting-2/2026-05-25/
LOCATION:St. James UMC Franklin Campus\, 1501 Franklin St\, Bellevue\, Nebraska\, 68005\, United States
END:VEVENT
END:VCALENDAR