BEGIN:VCALENDAR
VERSION:2.0
PRODID:-//St. James United Methodist Church - ECPv6.15.20//NONSGML v1.0//EN
CALSCALE:GREGORIAN
METHOD:PUBLISH
X-ORIGINAL-URL:https://stjamesbellevue.com
X-WR-CALDESC:Events for St. James United Methodist Church
REFRESH-INTERVAL;VALUE=DURATION:PT1H
X-Robots-Tag:noindex
X-PUBLISHED-TTL:PT1H
BEGIN:VTIMEZONE
TZID:America/Chicago
BEGIN:DAYLIGHT
TZOFFSETFROM:-0600
TZOFFSETTO:-0500
TZNAME:CDT
DTSTART:20250309T080000
END:DAYLIGHT
BEGIN:STANDARD
TZOFFSETFROM:-0500
TZOFFSETTO:-0600
TZNAME:CST
DTSTART:20251102T070000
END:STANDARD
BEGIN:DAYLIGHT
TZOFFSETFROM:-0600
TZOFFSETTO:-0500
TZNAME:CDT
DTSTART:20260308T080000
END:DAYLIGHT
BEGIN:STANDARD
TZOFFSETFROM:-0500
TZOFFSETTO:-0600
TZNAME:CST
DTSTART:20261101T070000
END:STANDARD
BEGIN:DAYLIGHT
TZOFFSETFROM:-0600
TZOFFSETTO:-0500
TZNAME:CDT
DTSTART:20270314T080000
END:DAYLIGHT
BEGIN:STANDARD
TZOFFSETFROM:-0500
TZOFFSETTO:-0600
TZNAME:CST
DTSTART:20271107T070000
END:STANDARD
END:VTIMEZONE
BEGIN:VEVENT
DTSTART;TZID=America/Chicago:20260607T093000
DTEND;TZID=America/Chicago:20260607T103000
DTSTAMP:20260425T211448
CREATED:20260127T045839Z
LAST-MODIFIED:20260127T045839Z
UID:10010151-1780824600-1780828200@stjamesbellevue.com
SUMMARY:Adult Sunday School
DESCRIPTION:
URL:https://stjamesbellevue.com/event/adult-sunday-school-3/2026-06-07/
LOCATION:St. James UMC BOTH Locations
END:VEVENT
BEGIN:VEVENT
DTSTART;TZID=America/Chicago:20260607T110000
DTEND;TZID=America/Chicago:20260607T120000
DTSTAMP:20260425T211448
CREATED:20260111T025243Z
LAST-MODIFIED:20260111T025243Z
UID:10008533-1780830000-1780833600@stjamesbellevue.com
SUMMARY:Adult Sunday School
DESCRIPTION:
URL:https://stjamesbellevue.com/event/adult-sunday-school-2/2026-06-07/
LOCATION:St. James UMC Capehart Campus\, 4343 Capehart Road\, Bellevue\, NE 68123\, Nebraska\, 68123
END:VEVENT
BEGIN:VEVENT
DTSTART;TZID=America/Chicago:20260607T160000
DTEND;TZID=America/Chicago:20260607T170000
DTSTAMP:20260425T211448
CREATED:20260202T230459Z
LAST-MODIFIED:20260202T230459Z
UID:10010651-1780848000-1780851600@stjamesbellevue.com
SUMMARY:Adult Bible Study
DESCRIPTION:Meet us at our Franklin Campus every Sunday at 4pm for a time of study and fellowship.
URL:https://stjamesbellevue.com/event/adult-bible-study/2026-06-07/
LOCATION:St. James UMC Franklin Campus\, 1501 Franklin St\, Bellevue\, Nebraska\, 68005\, United States
END:VEVENT
BEGIN:VEVENT
DTSTART;TZID=America/Chicago:20260608T073000
DTEND;TZID=America/Chicago:20260608T081500
DTSTAMP:20260425T211448
CREATED:20251224T232948Z
LAST-MODIFIED:20260406T010515Z
UID:10002388-1780903800-1780906500@stjamesbellevue.com
SUMMARY:Devotions with Matt
DESCRIPTION:Each Monday morning\, a small group from St. James gathers with Pastor Matt at a local coffee shop for a time of spiritual reflection\, heartfelt conversation\, and community connection. What began as a simple devotional has become a meaningful ritual—a place where newcomers find welcome\, longtime members deepen relationships\, and the Spirit moves through shared stories and open dialogue. \nWhether you’re curious about faith\, seeking deeper connection\, or simply looking for a place to belong\, this gathering offers a gentle way to engage. It’s where questions are honored\, friendships are formed\, and God’s presence is felt in both quiet moments and lively discussion. For many\, it’s become a sacred start to the week—rooted in grace\, guided by scripture\, and enriched by the voices around the table. \nAll are welcome. Come as you are\, and see where the Spirit leads.
URL:https://stjamesbellevue.com/event/devotions-with-matt-3/2026-06-08/
LOCATION:Nebraska
END:VEVENT
BEGIN:VEVENT
DTSTART;TZID=America/Chicago:20260608T190000
DTEND;TZID=America/Chicago:20260608T200000
DTSTAMP:20260425T211448
CREATED:20260204T000154Z
LAST-MODIFIED:20260204T000154Z
UID:10001426-1780945200-1780948800@stjamesbellevue.com
SUMMARY:AA Meeting
DESCRIPTION: 
URL:https://stjamesbellevue.com/event/aa-meeting-2/2026-06-08/
LOCATION:St. James UMC Franklin Campus\, 1501 Franklin St\, Bellevue\, Nebraska\, 68005\, United States
END:VEVENT
BEGIN:VEVENT
DTSTART;TZID=America/Chicago:20260608T190000
DTEND;TZID=America/Chicago:20260608T200000
DTSTAMP:20260425T211448
CREATED:20260305T230855Z
LAST-MODIFIED:20260305T230856Z
UID:10008776-1780945200-1780948800@stjamesbellevue.com
SUMMARY:Worship Committee
DESCRIPTION: 
URL:https://stjamesbellevue.com/event/worship-committee-2-2/2026-06-08/
LOCATION:St. James UMC Franklin Campus\, 1501 Franklin St\, Bellevue\, Nebraska\, 68005\, United States
END:VEVENT
BEGIN:VEVENT
DTSTART;TZID=America/Chicago:20260609T073000
DTEND;TZID=America/Chicago:20260609T081500
DTSTAMP:20260425T211448
CREATED:20251224T233425Z
LAST-MODIFIED:20251224T233643Z
UID:10002128-1780990200-1780992900@stjamesbellevue.com
SUMMARY:Devotions with Matt
DESCRIPTION:Come as you are to *Devotions with Matt*—a weekly space where faith meets real life over coffee and conversation. Whether you’re seeking guidance\, carrying questions about God\, or simply looking to be part of a thoughtful\, evolving community\, this gathering offers a gentle rhythm of reflection\, connection\, and shared purpose. \nEach week\, Pastor Matt leads a devotional moment that opens the door to deeper dialogue. Some come with something on their hearts to share. Others come to listen and be encouraged. What began as a stop along the way has become a destination—a safe\, welcoming circle where personal experiences are honored and spiritual growth is nurtured. \nWhether you’re new to devotionals or simply curious\, you’re welcome here. The coffee is warm\, the people are real\, and the Spirit moves gently among us. \n\n\n\n 
URL:https://stjamesbellevue.com/event/devotions-with-matt-4/2026-06-09/
LOCATION:Nebraska
END:VEVENT
BEGIN:VEVENT
DTSTART;TZID=America/Chicago:20260610T163000
DTEND;TZID=America/Chicago:20260610T173000
DTSTAMP:20260425T211448
CREATED:20260127T044618Z
LAST-MODIFIED:20260127T044618Z
UID:10009627-1781109000-1781112600@stjamesbellevue.com
SUMMARY:Tone Chimes Rehearsal
DESCRIPTION:
URL:https://stjamesbellevue.com/event/tone-chimes-rehearsal/2026-06-10/
LOCATION:St. James UMC Capehart Campus\, 4343 Capehart Road\, Bellevue\, NE 68123\, Nebraska\, 68123
END:VEVENT
BEGIN:VEVENT
DTSTART;TZID=America/Chicago:20260610T163000
DTEND;TZID=America/Chicago:20260610T174500
DTSTAMP:20260425T211448
CREATED:20250810T210729Z
LAST-MODIFIED:20251220T140010Z
UID:10000053-1781109000-1781113500@stjamesbellevue.com
SUMMARY:Praise Band Rehearsal
DESCRIPTION: 
URL:https://stjamesbellevue.com/event/praise-band-rehearsal/2026-06-10/
LOCATION:Nebraska
END:VEVENT
BEGIN:VEVENT
DTSTART;TZID=America/Chicago:20260610T170000
DTEND;TZID=America/Chicago:20260610T173000
DTSTAMP:20260425T211448
CREATED:20260127T044809Z
LAST-MODIFIED:20260127T044809Z
UID:10009888-1781110800-1781112600@stjamesbellevue.com
SUMMARY:Tiny Tone Chimes Rehearsal
DESCRIPTION:
URL:https://stjamesbellevue.com/event/tiny-tone-chimes-rehearsal/2026-06-10/
LOCATION:St. James UMC Capehart Campus\, 4343 Capehart Road\, Bellevue\, NE 68123\, Nebraska\, 68123
ORGANIZER;CN="Mamie Bryan":MAILTO:M.bryan@stjamesumc.church
END:VEVENT
BEGIN:VEVENT
DTSTART;TZID=America/Chicago:20260610T170000
DTEND;TZID=America/Chicago:20260610T190000
DTSTAMP:20260425T211448
CREATED:20251220T174830Z
LAST-MODIFIED:20260322T222000Z
UID:10001868-1781110800-1781118000@stjamesbellevue.com
SUMMARY:United Wednesday
DESCRIPTION:5:30pm: Dinner; \n6pm: Adult Pastor led Bible study; Youth group (6th-12th); Children’s Group (Pre K-5th)
URL:https://stjamesbellevue.com/event/united-wednesday/2026-06-10/
LOCATION:St. James UMC Capehart Campus\, 4343 Capehart Road\, Bellevue\, NE 68123\, Nebraska\, 68123
END:VEVENT
BEGIN:VEVENT
DTSTART;TZID=America/Chicago:20260610T190000
DTEND;TZID=America/Chicago:20260610T200000
DTSTAMP:20260425T211448
CREATED:20250810T214927Z
LAST-MODIFIED:20260406T010403Z
UID:10000312-1781118000-1781121600@stjamesbellevue.com
SUMMARY:Choir Rehearsal
DESCRIPTION: 
URL:https://stjamesbellevue.com/event/choir-rehearsal/2026-06-10/
LOCATION:St. James UMC Capehart Campus\, 4343 Capehart Road\, Bellevue\, NE 68123\, Nebraska\, 68123
END:VEVENT
BEGIN:VEVENT
DTSTART;TZID=America/Chicago:20260611T063000
DTEND;TZID=America/Chicago:20260611T080000
DTSTAMP:20260425T211448
CREATED:20250810T210729Z
LAST-MODIFIED:20251220T140353Z
UID:10000589-1781159400-1781164800@stjamesbellevue.com
SUMMARY:Men's Breakfast Bible Study
DESCRIPTION: 
URL:https://stjamesbellevue.com/event/mens-breakfast-bible-study/2026-06-11/
LOCATION:Lighthouse Cafe\, 119 W Mission Ave\, Bellevue\, Nebraska\, 68005\, United States
END:VEVENT
BEGIN:VEVENT
DTSTART;TZID=America/Chicago:20260611T190000
DTEND;TZID=America/Chicago:20260611T200000
DTSTAMP:20260425T211448
CREATED:20260204T000154Z
LAST-MODIFIED:20260204T000154Z
UID:10011180-1781204400-1781208000@stjamesbellevue.com
SUMMARY:AA Meeting
DESCRIPTION: 
URL:https://stjamesbellevue.com/event/aa-meeting-2/2026-06-11/
LOCATION:St. James UMC Franklin Campus\, 1501 Franklin St\, Bellevue\, Nebraska\, 68005\, United States
END:VEVENT
BEGIN:VEVENT
DTSTART;TZID=America/Chicago:20260611T190000
DTEND;TZID=America/Chicago:20260611T200000
DTSTAMP:20260425T211448
CREATED:20260318T230633Z
LAST-MODIFIED:20260318T230633Z
UID:10010920-1781204400-1781208000@stjamesbellevue.com
SUMMARY:Handbell Rehearsal
DESCRIPTION:  \n\n\n\n\n\n\n\n\n\n\n\n\n\n 
URL:https://stjamesbellevue.com/event/handbells-rehearsal-2/2026-06-11/
LOCATION:Nebraska
END:VEVENT
BEGIN:VEVENT
DTSTART;TZID=America/Chicago:20260614T093000
DTEND;TZID=America/Chicago:20260614T103000
DTSTAMP:20260425T211448
CREATED:20260127T045839Z
LAST-MODIFIED:20260127T045839Z
UID:10010152-1781429400-1781433000@stjamesbellevue.com
SUMMARY:Adult Sunday School
DESCRIPTION:
URL:https://stjamesbellevue.com/event/adult-sunday-school-3/2026-06-14/
LOCATION:St. James UMC BOTH Locations
END:VEVENT
BEGIN:VEVENT
DTSTART;TZID=America/Chicago:20260614T110000
DTEND;TZID=America/Chicago:20260614T120000
DTSTAMP:20260425T211448
CREATED:20260111T025243Z
LAST-MODIFIED:20260111T025243Z
UID:10008534-1781434800-1781438400@stjamesbellevue.com
SUMMARY:Adult Sunday School
DESCRIPTION:
URL:https://stjamesbellevue.com/event/adult-sunday-school-2/2026-06-14/
LOCATION:St. James UMC Capehart Campus\, 4343 Capehart Road\, Bellevue\, NE 68123\, Nebraska\, 68123
END:VEVENT
BEGIN:VEVENT
DTSTART;TZID=America/Chicago:20260614T160000
DTEND;TZID=America/Chicago:20260614T170000
DTSTAMP:20260425T211448
CREATED:20260202T230459Z
LAST-MODIFIED:20260202T230459Z
UID:10010652-1781452800-1781456400@stjamesbellevue.com
SUMMARY:Adult Bible Study
DESCRIPTION:Meet us at our Franklin Campus every Sunday at 4pm for a time of study and fellowship.
URL:https://stjamesbellevue.com/event/adult-bible-study/2026-06-14/
LOCATION:St. James UMC Franklin Campus\, 1501 Franklin St\, Bellevue\, Nebraska\, 68005\, United States
END:VEVENT
BEGIN:VEVENT
DTSTART;TZID=America/Chicago:20260615T073000
DTEND;TZID=America/Chicago:20260615T081500
DTSTAMP:20260425T211448
CREATED:20251224T232948Z
LAST-MODIFIED:20260406T010515Z
UID:10002389-1781508600-1781511300@stjamesbellevue.com
SUMMARY:Devotions with Matt
DESCRIPTION:Each Monday morning\, a small group from St. James gathers with Pastor Matt at a local coffee shop for a time of spiritual reflection\, heartfelt conversation\, and community connection. What began as a simple devotional has become a meaningful ritual—a place where newcomers find welcome\, longtime members deepen relationships\, and the Spirit moves through shared stories and open dialogue. \nWhether you’re curious about faith\, seeking deeper connection\, or simply looking for a place to belong\, this gathering offers a gentle way to engage. It’s where questions are honored\, friendships are formed\, and God’s presence is felt in both quiet moments and lively discussion. For many\, it’s become a sacred start to the week—rooted in grace\, guided by scripture\, and enriched by the voices around the table. \nAll are welcome. Come as you are\, and see where the Spirit leads.
URL:https://stjamesbellevue.com/event/devotions-with-matt-3/2026-06-15/
LOCATION:Nebraska
END:VEVENT
BEGIN:VEVENT
DTSTART;TZID=America/Chicago:20260615T190000
DTEND;TZID=America/Chicago:20260615T200000
DTSTAMP:20260425T211448
CREATED:20260204T000154Z
LAST-MODIFIED:20260204T000154Z
UID:10001427-1781550000-1781553600@stjamesbellevue.com
SUMMARY:AA Meeting
DESCRIPTION: 
URL:https://stjamesbellevue.com/event/aa-meeting-2/2026-06-15/
LOCATION:St. James UMC Franklin Campus\, 1501 Franklin St\, Bellevue\, Nebraska\, 68005\, United States
END:VEVENT
BEGIN:VEVENT
DTSTART;TZID=America/Chicago:20260615T190000
DTEND;TZID=America/Chicago:20260615T200000
DTSTAMP:20260425T211448
CREATED:20260211T230712Z
LAST-MODIFIED:20260211T231353Z
UID:10011441-1781550000-1781553600@stjamesbellevue.com
SUMMARY:Finance Committee
DESCRIPTION:
URL:https://stjamesbellevue.com/event/finance-committee-2/2026-06-15/
LOCATION:St. James UMC Capehart Campus\, 4343 Capehart Road\, Bellevue\, NE 68123\, Nebraska\, 68123
END:VEVENT
BEGIN:VEVENT
DTSTART;TZID=America/Chicago:20260616T073000
DTEND;TZID=America/Chicago:20260616T081500
DTSTAMP:20260425T211448
CREATED:20251224T233425Z
LAST-MODIFIED:20251224T233643Z
UID:10002129-1781595000-1781597700@stjamesbellevue.com
SUMMARY:Devotions with Matt
DESCRIPTION:Come as you are to *Devotions with Matt*—a weekly space where faith meets real life over coffee and conversation. Whether you’re seeking guidance\, carrying questions about God\, or simply looking to be part of a thoughtful\, evolving community\, this gathering offers a gentle rhythm of reflection\, connection\, and shared purpose. \nEach week\, Pastor Matt leads a devotional moment that opens the door to deeper dialogue. Some come with something on their hearts to share. Others come to listen and be encouraged. What began as a stop along the way has become a destination—a safe\, welcoming circle where personal experiences are honored and spiritual growth is nurtured. \nWhether you’re new to devotionals or simply curious\, you’re welcome here. The coffee is warm\, the people are real\, and the Spirit moves gently among us. \n\n\n\n 
URL:https://stjamesbellevue.com/event/devotions-with-matt-4/2026-06-16/
LOCATION:Nebraska
END:VEVENT
BEGIN:VEVENT
DTSTART;TZID=America/Chicago:20260617T163000
DTEND;TZID=America/Chicago:20260617T173000
DTSTAMP:20260425T211448
CREATED:20260127T044618Z
LAST-MODIFIED:20260127T044618Z
UID:10009628-1781713800-1781717400@stjamesbellevue.com
SUMMARY:Tone Chimes Rehearsal
DESCRIPTION:
URL:https://stjamesbellevue.com/event/tone-chimes-rehearsal/2026-06-17/
LOCATION:St. James UMC Capehart Campus\, 4343 Capehart Road\, Bellevue\, NE 68123\, Nebraska\, 68123
END:VEVENT
BEGIN:VEVENT
DTSTART;TZID=America/Chicago:20260617T163000
DTEND;TZID=America/Chicago:20260617T174500
DTSTAMP:20260425T211448
CREATED:20250810T210729Z
LAST-MODIFIED:20251220T140010Z
UID:10000054-1781713800-1781718300@stjamesbellevue.com
SUMMARY:Praise Band Rehearsal
DESCRIPTION: 
URL:https://stjamesbellevue.com/event/praise-band-rehearsal/2026-06-17/
LOCATION:Nebraska
END:VEVENT
BEGIN:VEVENT
DTSTART;TZID=America/Chicago:20260617T170000
DTEND;TZID=America/Chicago:20260617T173000
DTSTAMP:20260425T211448
CREATED:20260127T044809Z
LAST-MODIFIED:20260127T044809Z
UID:10009889-1781715600-1781717400@stjamesbellevue.com
SUMMARY:Tiny Tone Chimes Rehearsal
DESCRIPTION:
URL:https://stjamesbellevue.com/event/tiny-tone-chimes-rehearsal/2026-06-17/
LOCATION:St. James UMC Capehart Campus\, 4343 Capehart Road\, Bellevue\, NE 68123\, Nebraska\, 68123
ORGANIZER;CN="Mamie Bryan":MAILTO:M.bryan@stjamesumc.church
END:VEVENT
BEGIN:VEVENT
DTSTART;TZID=America/Chicago:20260617T170000
DTEND;TZID=America/Chicago:20260617T190000
DTSTAMP:20260425T211448
CREATED:20251220T174830Z
LAST-MODIFIED:20260322T222000Z
UID:10001869-1781715600-1781722800@stjamesbellevue.com
SUMMARY:United Wednesday
DESCRIPTION:5:30pm: Dinner; \n6pm: Adult Pastor led Bible study; Youth group (6th-12th); Children’s Group (Pre K-5th)
URL:https://stjamesbellevue.com/event/united-wednesday/2026-06-17/
LOCATION:St. James UMC Capehart Campus\, 4343 Capehart Road\, Bellevue\, NE 68123\, Nebraska\, 68123
END:VEVENT
BEGIN:VEVENT
DTSTART;TZID=America/Chicago:20260617T190000
DTEND;TZID=America/Chicago:20260617T200000
DTSTAMP:20260425T211448
CREATED:20250810T214927Z
LAST-MODIFIED:20260406T010403Z
UID:10000313-1781722800-1781726400@stjamesbellevue.com
SUMMARY:Choir Rehearsal
DESCRIPTION: 
URL:https://stjamesbellevue.com/event/choir-rehearsal/2026-06-17/
LOCATION:St. James UMC Capehart Campus\, 4343 Capehart Road\, Bellevue\, NE 68123\, Nebraska\, 68123
END:VEVENT
BEGIN:VEVENT
DTSTART;TZID=America/Chicago:20260618T063000
DTEND;TZID=America/Chicago:20260618T080000
DTSTAMP:20260425T211448
CREATED:20250810T210729Z
LAST-MODIFIED:20251220T140353Z
UID:10000590-1781764200-1781769600@stjamesbellevue.com
SUMMARY:Men's Breakfast Bible Study
DESCRIPTION: 
URL:https://stjamesbellevue.com/event/mens-breakfast-bible-study/2026-06-18/
LOCATION:Lighthouse Cafe\, 119 W Mission Ave\, Bellevue\, Nebraska\, 68005\, United States
END:VEVENT
BEGIN:VEVENT
DTSTART;TZID=America/Chicago:20260618T190000
DTEND;TZID=America/Chicago:20260618T200000
DTSTAMP:20260425T211448
CREATED:20260204T000154Z
LAST-MODIFIED:20260204T000154Z
UID:10011181-1781809200-1781812800@stjamesbellevue.com
SUMMARY:AA Meeting
DESCRIPTION: 
URL:https://stjamesbellevue.com/event/aa-meeting-2/2026-06-18/
LOCATION:St. James UMC Franklin Campus\, 1501 Franklin St\, Bellevue\, Nebraska\, 68005\, United States
END:VEVENT
BEGIN:VEVENT
DTSTART;TZID=America/Chicago:20260618T190000
DTEND;TZID=America/Chicago:20260618T200000
DTSTAMP:20260425T211448
CREATED:20260318T230633Z
LAST-MODIFIED:20260318T230633Z
UID:10010921-1781809200-1781812800@stjamesbellevue.com
SUMMARY:Handbell Rehearsal
DESCRIPTION:  \n\n\n\n\n\n\n\n\n\n\n\n\n\n 
URL:https://stjamesbellevue.com/event/handbells-rehearsal-2/2026-06-18/
LOCATION:Nebraska
END:VEVENT
END:VCALENDAR