BEGIN:VCALENDAR
VERSION:2.0
PRODID:-//St. James United Methodist Church - ECPv6.15.20//NONSGML v1.0//EN
CALSCALE:GREGORIAN
METHOD:PUBLISH
X-ORIGINAL-URL:https://stjamesbellevue.com
X-WR-CALDESC:Events for St. James United Methodist Church
REFRESH-INTERVAL;VALUE=DURATION:PT1H
X-Robots-Tag:noindex
X-PUBLISHED-TTL:PT1H
BEGIN:VTIMEZONE
TZID:America/Chicago
BEGIN:DAYLIGHT
TZOFFSETFROM:-0600
TZOFFSETTO:-0500
TZNAME:CDT
DTSTART:20250309T080000
END:DAYLIGHT
BEGIN:STANDARD
TZOFFSETFROM:-0500
TZOFFSETTO:-0600
TZNAME:CST
DTSTART:20251102T070000
END:STANDARD
BEGIN:DAYLIGHT
TZOFFSETFROM:-0600
TZOFFSETTO:-0500
TZNAME:CDT
DTSTART:20260308T080000
END:DAYLIGHT
BEGIN:STANDARD
TZOFFSETFROM:-0500
TZOFFSETTO:-0600
TZNAME:CST
DTSTART:20261101T070000
END:STANDARD
BEGIN:DAYLIGHT
TZOFFSETFROM:-0600
TZOFFSETTO:-0500
TZNAME:CDT
DTSTART:20270314T080000
END:DAYLIGHT
BEGIN:STANDARD
TZOFFSETFROM:-0500
TZOFFSETTO:-0600
TZNAME:CST
DTSTART:20271107T070000
END:STANDARD
END:VTIMEZONE
BEGIN:VEVENT
DTSTART;TZID=America/Chicago:20260430T190000
DTEND;TZID=America/Chicago:20260430T200000
DTSTAMP:20260425T231439
CREATED:20260204T000154Z
LAST-MODIFIED:20260204T000154Z
UID:10011174-1777575600-1777579200@stjamesbellevue.com
SUMMARY:AA Meeting
DESCRIPTION: 
URL:https://stjamesbellevue.com/event/aa-meeting-2/2026-04-30/
LOCATION:St. James UMC Franklin Campus\, 1501 Franklin St\, Bellevue\, Nebraska\, 68005\, United States
END:VEVENT
BEGIN:VEVENT
DTSTART;TZID=America/Chicago:20260430T190000
DTEND;TZID=America/Chicago:20260430T200000
DTSTAMP:20260425T231439
CREATED:20260318T230633Z
LAST-MODIFIED:20260318T230633Z
UID:10010914-1777575600-1777579200@stjamesbellevue.com
SUMMARY:Handbell Rehearsal
DESCRIPTION:  \n\n\n\n\n\n\n\n\n\n\n\n\n\n 
URL:https://stjamesbellevue.com/event/handbells-rehearsal-2/2026-04-30/
LOCATION:Nebraska
END:VEVENT
BEGIN:VEVENT
DTSTART;TZID=America/Chicago:20260503T093000
DTEND;TZID=America/Chicago:20260503T103000
DTSTAMP:20260425T231439
CREATED:20260127T045839Z
LAST-MODIFIED:20260127T045839Z
UID:10010146-1777800600-1777804200@stjamesbellevue.com
SUMMARY:Adult Sunday School
DESCRIPTION:
URL:https://stjamesbellevue.com/event/adult-sunday-school-3/2026-05-03/
LOCATION:St. James UMC BOTH Locations
END:VEVENT
BEGIN:VEVENT
DTSTART;TZID=America/Chicago:20260503T110000
DTEND;TZID=America/Chicago:20260503T120000
DTSTAMP:20260425T231439
CREATED:20260111T025243Z
LAST-MODIFIED:20260111T025243Z
UID:10008528-1777806000-1777809600@stjamesbellevue.com
SUMMARY:Adult Sunday School
DESCRIPTION:
URL:https://stjamesbellevue.com/event/adult-sunday-school-2/2026-05-03/
LOCATION:St. James UMC Capehart Campus\, 4343 Capehart Road\, Bellevue\, NE 68123\, Nebraska\, 68123
END:VEVENT
BEGIN:VEVENT
DTSTART;TZID=America/Chicago:20260503T160000
DTEND;TZID=America/Chicago:20260503T170000
DTSTAMP:20260425T231439
CREATED:20260202T230459Z
LAST-MODIFIED:20260202T230459Z
UID:10010646-1777824000-1777827600@stjamesbellevue.com
SUMMARY:Adult Bible Study
DESCRIPTION:Meet us at our Franklin Campus every Sunday at 4pm for a time of study and fellowship.
URL:https://stjamesbellevue.com/event/adult-bible-study/2026-05-03/
LOCATION:St. James UMC Franklin Campus\, 1501 Franklin St\, Bellevue\, Nebraska\, 68005\, United States
END:VEVENT
BEGIN:VEVENT
DTSTART;TZID=America/Chicago:20260504T073000
DTEND;TZID=America/Chicago:20260504T081500
DTSTAMP:20260425T231439
CREATED:20251224T232948Z
LAST-MODIFIED:20260406T010515Z
UID:10002383-1777879800-1777882500@stjamesbellevue.com
SUMMARY:Devotions with Matt
DESCRIPTION:Each Monday morning\, a small group from St. James gathers with Pastor Matt at a local coffee shop for a time of spiritual reflection\, heartfelt conversation\, and community connection. What began as a simple devotional has become a meaningful ritual—a place where newcomers find welcome\, longtime members deepen relationships\, and the Spirit moves through shared stories and open dialogue. \nWhether you’re curious about faith\, seeking deeper connection\, or simply looking for a place to belong\, this gathering offers a gentle way to engage. It’s where questions are honored\, friendships are formed\, and God’s presence is felt in both quiet moments and lively discussion. For many\, it’s become a sacred start to the week—rooted in grace\, guided by scripture\, and enriched by the voices around the table. \nAll are welcome. Come as you are\, and see where the Spirit leads.
URL:https://stjamesbellevue.com/event/devotions-with-matt-3/2026-05-04/
LOCATION:Nebraska
END:VEVENT
BEGIN:VEVENT
DTSTART;TZID=America/Chicago:20260504T140000
DTEND;TZID=America/Chicago:20260504T150000
DTSTAMP:20260425T231439
CREATED:20260409T210847Z
LAST-MODIFIED:20260409T211119Z
UID:10012185-1777903200-1777906800@stjamesbellevue.com
SUMMARY:Women's Bible Study
DESCRIPTION:
URL:https://stjamesbellevue.com/event/womens-bible-study-4-13/2026-05-04/
LOCATION:St. James UMC Capehart Campus\, 4343 Capehart Road\, Bellevue\, NE 68123\, Nebraska\, 68123
ORGANIZER;CN="Janet Wilberger":MAILTO:jwilberger216@gmail.com
END:VEVENT
BEGIN:VEVENT
DTSTART;TZID=America/Chicago:20260504T190000
DTEND;TZID=America/Chicago:20260504T200000
DTSTAMP:20260425T231439
CREATED:20260204T000154Z
LAST-MODIFIED:20260204T000154Z
UID:10001421-1777921200-1777924800@stjamesbellevue.com
SUMMARY:AA Meeting
DESCRIPTION: 
URL:https://stjamesbellevue.com/event/aa-meeting-2/2026-05-04/
LOCATION:St. James UMC Franklin Campus\, 1501 Franklin St\, Bellevue\, Nebraska\, 68005\, United States
END:VEVENT
BEGIN:VEVENT
DTSTART;TZID=America/Chicago:20260504T190000
DTEND;TZID=America/Chicago:20260504T200000
DTSTAMP:20260425T231439
CREATED:20260406T010758Z
LAST-MODIFIED:20260406T010758Z
UID:10011747-1777921200-1777924800@stjamesbellevue.com
SUMMARY:Church Council Meeting
DESCRIPTION:
URL:https://stjamesbellevue.com/event/church-council-meeting/2026-05-04/
LOCATION:St. James UMC Capehart Campus\, 4343 Capehart Road\, Bellevue\, NE 68123\, Nebraska\, 68123
ORGANIZER;CN="Ben Del Rosario":MAILTO:bdelrosario1961@gmail.com
END:VEVENT
BEGIN:VEVENT
DTSTART;TZID=America/Chicago:20260505T073000
DTEND;TZID=America/Chicago:20260505T081500
DTSTAMP:20260425T231439
CREATED:20251224T233425Z
LAST-MODIFIED:20251224T233643Z
UID:10002123-1777966200-1777968900@stjamesbellevue.com
SUMMARY:Devotions with Matt
DESCRIPTION:Come as you are to *Devotions with Matt*—a weekly space where faith meets real life over coffee and conversation. Whether you’re seeking guidance\, carrying questions about God\, or simply looking to be part of a thoughtful\, evolving community\, this gathering offers a gentle rhythm of reflection\, connection\, and shared purpose. \nEach week\, Pastor Matt leads a devotional moment that opens the door to deeper dialogue. Some come with something on their hearts to share. Others come to listen and be encouraged. What began as a stop along the way has become a destination—a safe\, welcoming circle where personal experiences are honored and spiritual growth is nurtured. \nWhether you’re new to devotionals or simply curious\, you’re welcome here. The coffee is warm\, the people are real\, and the Spirit moves gently among us. \n\n\n\n 
URL:https://stjamesbellevue.com/event/devotions-with-matt-4/2026-05-05/
LOCATION:Nebraska
END:VEVENT
BEGIN:VEVENT
DTSTART;TZID=America/Chicago:20260506T163000
DTEND;TZID=America/Chicago:20260506T173000
DTSTAMP:20260425T231439
CREATED:20260127T044618Z
LAST-MODIFIED:20260127T044618Z
UID:10009622-1778085000-1778088600@stjamesbellevue.com
SUMMARY:Tone Chimes Rehearsal
DESCRIPTION:
URL:https://stjamesbellevue.com/event/tone-chimes-rehearsal/2026-05-06/
LOCATION:St. James UMC Capehart Campus\, 4343 Capehart Road\, Bellevue\, NE 68123\, Nebraska\, 68123
END:VEVENT
BEGIN:VEVENT
DTSTART;TZID=America/Chicago:20260506T163000
DTEND;TZID=America/Chicago:20260506T174500
DTSTAMP:20260425T231439
CREATED:20250810T210729Z
LAST-MODIFIED:20251220T140010Z
UID:10000048-1778085000-1778089500@stjamesbellevue.com
SUMMARY:Praise Band Rehearsal
DESCRIPTION: 
URL:https://stjamesbellevue.com/event/praise-band-rehearsal/2026-05-06/
LOCATION:Nebraska
END:VEVENT
BEGIN:VEVENT
DTSTART;TZID=America/Chicago:20260506T170000
DTEND;TZID=America/Chicago:20260506T173000
DTSTAMP:20260425T231439
CREATED:20260127T044809Z
LAST-MODIFIED:20260127T044809Z
UID:10009883-1778086800-1778088600@stjamesbellevue.com
SUMMARY:Tiny Tone Chimes Rehearsal
DESCRIPTION:
URL:https://stjamesbellevue.com/event/tiny-tone-chimes-rehearsal/2026-05-06/
LOCATION:St. James UMC Capehart Campus\, 4343 Capehart Road\, Bellevue\, NE 68123\, Nebraska\, 68123
ORGANIZER;CN="Mamie Bryan":MAILTO:M.bryan@stjamesumc.church
END:VEVENT
BEGIN:VEVENT
DTSTART;TZID=America/Chicago:20260506T170000
DTEND;TZID=America/Chicago:20260506T190000
DTSTAMP:20260425T231439
CREATED:20251220T174830Z
LAST-MODIFIED:20260322T222000Z
UID:10001863-1778086800-1778094000@stjamesbellevue.com
SUMMARY:United Wednesday
DESCRIPTION:5:30pm: Dinner; \n6pm: Adult Pastor led Bible study; Youth group (6th-12th); Children’s Group (Pre K-5th)
URL:https://stjamesbellevue.com/event/united-wednesday/2026-05-06/
LOCATION:St. James UMC Capehart Campus\, 4343 Capehart Road\, Bellevue\, NE 68123\, Nebraska\, 68123
END:VEVENT
BEGIN:VEVENT
DTSTART;TZID=America/Chicago:20260506T190000
DTEND;TZID=America/Chicago:20260506T200000
DTSTAMP:20260425T231439
CREATED:20250810T214927Z
LAST-MODIFIED:20260406T010403Z
UID:10000307-1778094000-1778097600@stjamesbellevue.com
SUMMARY:Choir Rehearsal
DESCRIPTION: 
URL:https://stjamesbellevue.com/event/choir-rehearsal/2026-05-06/
LOCATION:St. James UMC Capehart Campus\, 4343 Capehart Road\, Bellevue\, NE 68123\, Nebraska\, 68123
END:VEVENT
BEGIN:VEVENT
DTSTART;TZID=America/Chicago:20260506T190000
DTEND;TZID=America/Chicago:20260506T203000
DTSTAMP:20260425T231439
CREATED:20260424T011524Z
LAST-MODIFIED:20260424T011524Z
UID:10012188-1778094000-1778099400@stjamesbellevue.com
SUMMARY:VBS Planning Meeting
DESCRIPTION:
URL:https://stjamesbellevue.com/event/vbs-planning-meeting-2/
LOCATION:St. James UMC Capehart Campus\, 4343 Capehart Road\, Bellevue\, NE 68123\, Nebraska\, 68123
ATTACH;FMTTYPE=image/png:https://stjamesbellevue.com/wp-content/uploads/2026/04/VBS-Planning.png
ORGANIZER;CN="Kelli Granados":MAILTO:kelli@stjamesumc.church
END:VEVENT
BEGIN:VEVENT
DTSTART;TZID=America/Chicago:20260507T063000
DTEND;TZID=America/Chicago:20260507T080000
DTSTAMP:20260425T231439
CREATED:20250810T210729Z
LAST-MODIFIED:20251220T140353Z
UID:10000584-1778135400-1778140800@stjamesbellevue.com
SUMMARY:Men's Breakfast Bible Study
DESCRIPTION: 
URL:https://stjamesbellevue.com/event/mens-breakfast-bible-study/2026-05-07/
LOCATION:Lighthouse Cafe\, 119 W Mission Ave\, Bellevue\, Nebraska\, 68005\, United States
END:VEVENT
BEGIN:VEVENT
DTSTART;TZID=America/Chicago:20260507T190000
DTEND;TZID=America/Chicago:20260507T200000
DTSTAMP:20260425T231439
CREATED:20260204T000154Z
LAST-MODIFIED:20260204T000154Z
UID:10011175-1778180400-1778184000@stjamesbellevue.com
SUMMARY:AA Meeting
DESCRIPTION: 
URL:https://stjamesbellevue.com/event/aa-meeting-2/2026-05-07/
LOCATION:St. James UMC Franklin Campus\, 1501 Franklin St\, Bellevue\, Nebraska\, 68005\, United States
END:VEVENT
BEGIN:VEVENT
DTSTART;TZID=America/Chicago:20260507T190000
DTEND;TZID=America/Chicago:20260507T200000
DTSTAMP:20260425T231439
CREATED:20260318T230633Z
LAST-MODIFIED:20260318T230633Z
UID:10010915-1778180400-1778184000@stjamesbellevue.com
SUMMARY:Handbell Rehearsal
DESCRIPTION:  \n\n\n\n\n\n\n\n\n\n\n\n\n\n 
URL:https://stjamesbellevue.com/event/handbells-rehearsal-2/2026-05-07/
LOCATION:Nebraska
END:VEVENT
BEGIN:VEVENT
DTSTART;TZID=America/Chicago:20260509T100000
DTEND;TZID=America/Chicago:20260509T120000
DTSTAMP:20260425T231439
CREATED:20260424T011154Z
LAST-MODIFIED:20260424T011154Z
UID:10012186-1778320800-1778328000@stjamesbellevue.com
SUMMARY:🌸 Mother’s Day Weekend Brunch
DESCRIPTION:Celebrate the women who pour love\, strength\, and grace into our church family. \nAll women are invited to a special Mother’s Day Weekend Brunch! \n10 AM • Saturday\, May 9 \nFranklin Campus \nCome enjoy food\, fellowship\, and a morning filled with joy and connection. We’d love to see you there.
URL:https://stjamesbellevue.com/event/%f0%9f%8c%b8-mothers-day-weekend-brunch/
LOCATION:St. James UMC Franklin Campus\, 1501 Franklin St\, Bellevue\, Nebraska\, 68005\, United States
ATTACH;FMTTYPE=image/png:https://stjamesbellevue.com/wp-content/uploads/2026/04/Mothers-Day-Brunch.png
END:VEVENT
BEGIN:VEVENT
DTSTART;TZID=America/Chicago:20260510T093000
DTEND;TZID=America/Chicago:20260510T103000
DTSTAMP:20260425T231439
CREATED:20260127T045839Z
LAST-MODIFIED:20260127T045839Z
UID:10010147-1778405400-1778409000@stjamesbellevue.com
SUMMARY:Adult Sunday School
DESCRIPTION:
URL:https://stjamesbellevue.com/event/adult-sunday-school-3/2026-05-10/
LOCATION:St. James UMC BOTH Locations
END:VEVENT
BEGIN:VEVENT
DTSTART;TZID=America/Chicago:20260510T110000
DTEND;TZID=America/Chicago:20260510T120000
DTSTAMP:20260425T231439
CREATED:20260111T025243Z
LAST-MODIFIED:20260111T025243Z
UID:10008529-1778410800-1778414400@stjamesbellevue.com
SUMMARY:Adult Sunday School
DESCRIPTION:
URL:https://stjamesbellevue.com/event/adult-sunday-school-2/2026-05-10/
LOCATION:St. James UMC Capehart Campus\, 4343 Capehart Road\, Bellevue\, NE 68123\, Nebraska\, 68123
END:VEVENT
BEGIN:VEVENT
DTSTART;TZID=America/Chicago:20260510T160000
DTEND;TZID=America/Chicago:20260510T170000
DTSTAMP:20260425T231439
CREATED:20260202T230459Z
LAST-MODIFIED:20260202T230459Z
UID:10010647-1778428800-1778432400@stjamesbellevue.com
SUMMARY:Adult Bible Study
DESCRIPTION:Meet us at our Franklin Campus every Sunday at 4pm for a time of study and fellowship.
URL:https://stjamesbellevue.com/event/adult-bible-study/2026-05-10/
LOCATION:St. James UMC Franklin Campus\, 1501 Franklin St\, Bellevue\, Nebraska\, 68005\, United States
END:VEVENT
BEGIN:VEVENT
DTSTART;TZID=America/Chicago:20260511T073000
DTEND;TZID=America/Chicago:20260511T081500
DTSTAMP:20260425T231439
CREATED:20251224T232948Z
LAST-MODIFIED:20260406T010515Z
UID:10002384-1778484600-1778487300@stjamesbellevue.com
SUMMARY:Devotions with Matt
DESCRIPTION:Each Monday morning\, a small group from St. James gathers with Pastor Matt at a local coffee shop for a time of spiritual reflection\, heartfelt conversation\, and community connection. What began as a simple devotional has become a meaningful ritual—a place where newcomers find welcome\, longtime members deepen relationships\, and the Spirit moves through shared stories and open dialogue. \nWhether you’re curious about faith\, seeking deeper connection\, or simply looking for a place to belong\, this gathering offers a gentle way to engage. It’s where questions are honored\, friendships are formed\, and God’s presence is felt in both quiet moments and lively discussion. For many\, it’s become a sacred start to the week—rooted in grace\, guided by scripture\, and enriched by the voices around the table. \nAll are welcome. Come as you are\, and see where the Spirit leads.
URL:https://stjamesbellevue.com/event/devotions-with-matt-3/2026-05-11/
LOCATION:Nebraska
END:VEVENT
BEGIN:VEVENT
DTSTART;TZID=America/Chicago:20260511T190000
DTEND;TZID=America/Chicago:20260511T200000
DTSTAMP:20260425T231439
CREATED:20260204T000154Z
LAST-MODIFIED:20260204T000154Z
UID:10001422-1778526000-1778529600@stjamesbellevue.com
SUMMARY:AA Meeting
DESCRIPTION: 
URL:https://stjamesbellevue.com/event/aa-meeting-2/2026-05-11/
LOCATION:St. James UMC Franklin Campus\, 1501 Franklin St\, Bellevue\, Nebraska\, 68005\, United States
END:VEVENT
BEGIN:VEVENT
DTSTART;TZID=America/Chicago:20260511T190000
DTEND;TZID=America/Chicago:20260511T200000
DTSTAMP:20260425T231439
CREATED:20260305T230855Z
LAST-MODIFIED:20260305T230856Z
UID:10008775-1778526000-1778529600@stjamesbellevue.com
SUMMARY:Worship Committee
DESCRIPTION: 
URL:https://stjamesbellevue.com/event/worship-committee-2-2/2026-05-11/
LOCATION:St. James UMC Franklin Campus\, 1501 Franklin St\, Bellevue\, Nebraska\, 68005\, United States
END:VEVENT
BEGIN:VEVENT
DTSTART;TZID=America/Chicago:20260512T073000
DTEND;TZID=America/Chicago:20260512T081500
DTSTAMP:20260425T231439
CREATED:20251224T233425Z
LAST-MODIFIED:20251224T233643Z
UID:10002124-1778571000-1778573700@stjamesbellevue.com
SUMMARY:Devotions with Matt
DESCRIPTION:Come as you are to *Devotions with Matt*—a weekly space where faith meets real life over coffee and conversation. Whether you’re seeking guidance\, carrying questions about God\, or simply looking to be part of a thoughtful\, evolving community\, this gathering offers a gentle rhythm of reflection\, connection\, and shared purpose. \nEach week\, Pastor Matt leads a devotional moment that opens the door to deeper dialogue. Some come with something on their hearts to share. Others come to listen and be encouraged. What began as a stop along the way has become a destination—a safe\, welcoming circle where personal experiences are honored and spiritual growth is nurtured. \nWhether you’re new to devotionals or simply curious\, you’re welcome here. The coffee is warm\, the people are real\, and the Spirit moves gently among us. \n\n\n\n 
URL:https://stjamesbellevue.com/event/devotions-with-matt-4/2026-05-12/
LOCATION:Nebraska
END:VEVENT
BEGIN:VEVENT
DTSTART;TZID=America/Chicago:20260513T163000
DTEND;TZID=America/Chicago:20260513T173000
DTSTAMP:20260425T231439
CREATED:20260127T044618Z
LAST-MODIFIED:20260127T044618Z
UID:10009623-1778689800-1778693400@stjamesbellevue.com
SUMMARY:Tone Chimes Rehearsal
DESCRIPTION:
URL:https://stjamesbellevue.com/event/tone-chimes-rehearsal/2026-05-13/
LOCATION:St. James UMC Capehart Campus\, 4343 Capehart Road\, Bellevue\, NE 68123\, Nebraska\, 68123
END:VEVENT
BEGIN:VEVENT
DTSTART;TZID=America/Chicago:20260513T163000
DTEND;TZID=America/Chicago:20260513T174500
DTSTAMP:20260425T231439
CREATED:20250810T210729Z
LAST-MODIFIED:20251220T140010Z
UID:10000049-1778689800-1778694300@stjamesbellevue.com
SUMMARY:Praise Band Rehearsal
DESCRIPTION: 
URL:https://stjamesbellevue.com/event/praise-band-rehearsal/2026-05-13/
LOCATION:Nebraska
END:VEVENT
BEGIN:VEVENT
DTSTART;TZID=America/Chicago:20260513T170000
DTEND;TZID=America/Chicago:20260513T173000
DTSTAMP:20260425T231439
CREATED:20260127T044809Z
LAST-MODIFIED:20260127T044809Z
UID:10009884-1778691600-1778693400@stjamesbellevue.com
SUMMARY:Tiny Tone Chimes Rehearsal
DESCRIPTION:
URL:https://stjamesbellevue.com/event/tiny-tone-chimes-rehearsal/2026-05-13/
LOCATION:St. James UMC Capehart Campus\, 4343 Capehart Road\, Bellevue\, NE 68123\, Nebraska\, 68123
ORGANIZER;CN="Mamie Bryan":MAILTO:M.bryan@stjamesumc.church
END:VEVENT
END:VCALENDAR