BEGIN:VCALENDAR
VERSION:2.0
PRODID:-//St. James United Methodist Church - ECPv6.15.20//NONSGML v1.0//EN
CALSCALE:GREGORIAN
METHOD:PUBLISH
X-WR-CALNAME:St. James United Methodist Church
X-ORIGINAL-URL:https://stjamesbellevue.com
X-WR-CALDESC:Events for St. James United Methodist Church
REFRESH-INTERVAL;VALUE=DURATION:PT1H
X-Robots-Tag:noindex
X-PUBLISHED-TTL:PT1H
BEGIN:VTIMEZONE
TZID:America/Chicago
BEGIN:DAYLIGHT
TZOFFSETFROM:-0600
TZOFFSETTO:-0500
TZNAME:CDT
DTSTART:20250309T080000
END:DAYLIGHT
BEGIN:STANDARD
TZOFFSETFROM:-0500
TZOFFSETTO:-0600
TZNAME:CST
DTSTART:20251102T070000
END:STANDARD
BEGIN:DAYLIGHT
TZOFFSETFROM:-0600
TZOFFSETTO:-0500
TZNAME:CDT
DTSTART:20260308T080000
END:DAYLIGHT
BEGIN:STANDARD
TZOFFSETFROM:-0500
TZOFFSETTO:-0600
TZNAME:CST
DTSTART:20261101T070000
END:STANDARD
BEGIN:DAYLIGHT
TZOFFSETFROM:-0600
TZOFFSETTO:-0500
TZNAME:CDT
DTSTART:20270314T080000
END:DAYLIGHT
BEGIN:STANDARD
TZOFFSETFROM:-0500
TZOFFSETTO:-0600
TZNAME:CST
DTSTART:20271107T070000
END:STANDARD
END:VTIMEZONE
BEGIN:VEVENT
DTSTART;TZID=America/Chicago:20260325T163000
DTEND;TZID=America/Chicago:20260325T173000
DTSTAMP:20260425T215606
CREATED:20260127T044618Z
LAST-MODIFIED:20260127T044618Z
UID:10009616-1774456200-1774459800@stjamesbellevue.com
SUMMARY:Tone Chimes Rehearsal
DESCRIPTION:
URL:https://stjamesbellevue.com/event/tone-chimes-rehearsal/2026-03-25/
LOCATION:St. James UMC Capehart Campus\, 4343 Capehart Road\, Bellevue\, NE 68123\, Nebraska\, 68123
END:VEVENT
BEGIN:VEVENT
DTSTART;TZID=America/Chicago:20260324T140000
DTEND;TZID=America/Chicago:20260324T160000
DTSTAMP:20260425T215606
CREATED:20260322T221756Z
LAST-MODIFIED:20260322T221757Z
UID:10010575-1774360800-1774368000@stjamesbellevue.com
SUMMARY:Pieceable Kingdom Quilters
DESCRIPTION: 
URL:https://stjamesbellevue.com/event/pieceable-kingdom-quilters-2/2026-03-24/
LOCATION:St. James UMC Franklin Campus\, 1501 Franklin St\, Bellevue\, Nebraska\, 68005\, United States
ORGANIZER;CN="Judy Shaw":MAILTO:jyshaw50@aol.com
END:VEVENT
BEGIN:VEVENT
DTSTART;TZID=America/Chicago:20260324T073000
DTEND;TZID=America/Chicago:20260324T081500
DTSTAMP:20260425T215606
CREATED:20251224T233425Z
LAST-MODIFIED:20251224T233643Z
UID:10002117-1774337400-1774340100@stjamesbellevue.com
SUMMARY:Devotions with Matt
DESCRIPTION:Come as you are to *Devotions with Matt*—a weekly space where faith meets real life over coffee and conversation. Whether you’re seeking guidance\, carrying questions about God\, or simply looking to be part of a thoughtful\, evolving community\, this gathering offers a gentle rhythm of reflection\, connection\, and shared purpose. \nEach week\, Pastor Matt leads a devotional moment that opens the door to deeper dialogue. Some come with something on their hearts to share. Others come to listen and be encouraged. What began as a stop along the way has become a destination—a safe\, welcoming circle where personal experiences are honored and spiritual growth is nurtured. \nWhether you’re new to devotionals or simply curious\, you’re welcome here. The coffee is warm\, the people are real\, and the Spirit moves gently among us. \n\n\n\n 
URL:https://stjamesbellevue.com/event/devotions-with-matt-4/2026-03-24/
LOCATION:Nebraska
END:VEVENT
BEGIN:VEVENT
DTSTART;TZID=America/Chicago:20260323T190000
DTEND;TZID=America/Chicago:20260323T200000
DTSTAMP:20260425T215606
CREATED:20260204T000154Z
LAST-MODIFIED:20260204T000154Z
UID:10001415-1774292400-1774296000@stjamesbellevue.com
SUMMARY:AA Meeting
DESCRIPTION: 
URL:https://stjamesbellevue.com/event/aa-meeting-2/2026-03-23/
LOCATION:St. James UMC Franklin Campus\, 1501 Franklin St\, Bellevue\, Nebraska\, 68005\, United States
END:VEVENT
BEGIN:VEVENT
DTSTART;TZID=America/Chicago:20260323T183000
DTEND;TZID=America/Chicago:20260323T193000
DTSTAMP:20260425T215606
CREATED:20260127T050232Z
LAST-MODIFIED:20260211T231602Z
UID:10011570-1774290600-1774294200@stjamesbellevue.com
SUMMARY:Outreach Committee Meeting
DESCRIPTION:
URL:https://stjamesbellevue.com/event/outreach-committee-meeting/2026-03-23/
LOCATION:St. James UMC Capehart Campus\, 4343 Capehart Road\, Bellevue\, NE 68123\, Nebraska\, 68123
END:VEVENT
BEGIN:VEVENT
DTSTART;TZID=America/Chicago:20260323T140000
DTEND;TZID=America/Chicago:20260323T150000
DTSTAMP:20260425T215606
CREATED:20260205T022859Z
LAST-MODIFIED:20260205T022859Z
UID:10011435-1774274400-1774278000@stjamesbellevue.com
SUMMARY:Women's Bible Study: An Unlikely Lent
DESCRIPTION:Join this 6-week study about the extraordinary people of the Easter story. \nThe cost of the book is $18.
URL:https://stjamesbellevue.com/event/womens-bible-study-an-unlikely-lent/2026-03-23/
LOCATION:St. James UMC Capehart Campus\, 4343 Capehart Road\, Bellevue\, NE 68123\, Nebraska\, 68123
ATTACH;FMTTYPE=image/png:https://stjamesbellevue.com/wp-content/uploads/2026/02/Womens-Bible-Study.png
ORGANIZER;CN="Janet Wilberger":MAILTO:jwilberger216@gmail.com
END:VEVENT
BEGIN:VEVENT
DTSTART;TZID=America/Chicago:20260323T073000
DTEND;TZID=America/Chicago:20260323T081500
DTSTAMP:20260425T215606
CREATED:20251224T232948Z
LAST-MODIFIED:20260406T010515Z
UID:10002377-1774251000-1774253700@stjamesbellevue.com
SUMMARY:Devotions with Matt
DESCRIPTION:Each Monday morning\, a small group from St. James gathers with Pastor Matt at a local coffee shop for a time of spiritual reflection\, heartfelt conversation\, and community connection. What began as a simple devotional has become a meaningful ritual—a place where newcomers find welcome\, longtime members deepen relationships\, and the Spirit moves through shared stories and open dialogue. \nWhether you’re curious about faith\, seeking deeper connection\, or simply looking for a place to belong\, this gathering offers a gentle way to engage. It’s where questions are honored\, friendships are formed\, and God’s presence is felt in both quiet moments and lively discussion. For many\, it’s become a sacred start to the week—rooted in grace\, guided by scripture\, and enriched by the voices around the table. \nAll are welcome. Come as you are\, and see where the Spirit leads.
URL:https://stjamesbellevue.com/event/devotions-with-matt-3/2026-03-23/
LOCATION:Nebraska
END:VEVENT
BEGIN:VEVENT
DTSTART;TZID=America/Chicago:20260322T160000
DTEND;TZID=America/Chicago:20260322T170000
DTSTAMP:20260425T215606
CREATED:20260202T230459Z
LAST-MODIFIED:20260202T230459Z
UID:10010640-1774195200-1774198800@stjamesbellevue.com
SUMMARY:Adult Bible Study
DESCRIPTION:Meet us at our Franklin Campus every Sunday at 4pm for a time of study and fellowship.
URL:https://stjamesbellevue.com/event/adult-bible-study/2026-03-22/
LOCATION:St. James UMC Franklin Campus\, 1501 Franklin St\, Bellevue\, Nebraska\, 68005\, United States
END:VEVENT
BEGIN:VEVENT
DTSTART;TZID=America/Chicago:20260322T120000
DTEND;TZID=America/Chicago:20260322T130000
DTSTAMP:20260425T215606
CREATED:20260305T231016Z
LAST-MODIFIED:20260305T231017Z
UID:10010395-1774180800-1774184400@stjamesbellevue.com
SUMMARY:Trustees Committee Meeting
DESCRIPTION:
URL:https://stjamesbellevue.com/event/trustees-2-2/2026-03-22/
LOCATION:St. James UMC Capehart Campus\, 4343 Capehart Road\, Bellevue\, NE 68123\, Nebraska\, 68123
ORGANIZER;CN="Glen Stinn":MAILTO:glenstinn@cox.net
END:VEVENT
BEGIN:VEVENT
DTSTART;TZID=America/Chicago:20260322T110000
DTEND;TZID=America/Chicago:20260322T120000
DTSTAMP:20260425T215606
CREATED:20260111T025243Z
LAST-MODIFIED:20260111T025243Z
UID:10008522-1774177200-1774180800@stjamesbellevue.com
SUMMARY:Adult Sunday School
DESCRIPTION:
URL:https://stjamesbellevue.com/event/adult-sunday-school-2/2026-03-22/
LOCATION:St. James UMC Capehart Campus\, 4343 Capehart Road\, Bellevue\, NE 68123\, Nebraska\, 68123
END:VEVENT
BEGIN:VEVENT
DTSTART;TZID=America/Chicago:20260322T093000
DTEND;TZID=America/Chicago:20260322T103000
DTSTAMP:20260425T215606
CREATED:20260127T045839Z
LAST-MODIFIED:20260127T045839Z
UID:10010140-1774171800-1774175400@stjamesbellevue.com
SUMMARY:Adult Sunday School
DESCRIPTION:
URL:https://stjamesbellevue.com/event/adult-sunday-school-3/2026-03-22/
LOCATION:St. James UMC BOTH Locations
END:VEVENT
BEGIN:VEVENT
DTSTART;TZID=America/Chicago:20260321T090000
DTEND;TZID=America/Chicago:20260321T110000
DTSTAMP:20260425T215606
CREATED:20250810T210729Z
LAST-MODIFIED:20260406T010057Z
UID:10010515-1774083600-1774090800@stjamesbellevue.com
SUMMARY:Saturday Quilters
DESCRIPTION: 
URL:https://stjamesbellevue.com/event/saturday-quilters/2026-03-21/
LOCATION:St. James UMC Franklin Campus\, 1501 Franklin St\, Bellevue\, Nebraska\, 68005\, United States
ORGANIZER;CN="Yvonne Goodman":MAILTO:yeggoodman@gmail.com
END:VEVENT
BEGIN:VEVENT
DTSTART;TZID=America/Chicago:20260319T190000
DTEND;TZID=America/Chicago:20260319T200000
DTSTAMP:20260425T215606
CREATED:20260318T230633Z
LAST-MODIFIED:20260318T230633Z
UID:10010908-1773946800-1773950400@stjamesbellevue.com
SUMMARY:Handbell Rehearsal
DESCRIPTION:  \n\n\n\n\n\n\n\n\n\n\n\n\n\n 
URL:https://stjamesbellevue.com/event/handbells-rehearsal-2/2026-03-19/
LOCATION:Nebraska
END:VEVENT
BEGIN:VEVENT
DTSTART;TZID=America/Chicago:20260319T190000
DTEND;TZID=America/Chicago:20260319T200000
DTSTAMP:20260425T215606
CREATED:20260204T000154Z
LAST-MODIFIED:20260204T000154Z
UID:10011168-1773946800-1773950400@stjamesbellevue.com
SUMMARY:AA Meeting
DESCRIPTION: 
URL:https://stjamesbellevue.com/event/aa-meeting-2/2026-03-19/
LOCATION:St. James UMC Franklin Campus\, 1501 Franklin St\, Bellevue\, Nebraska\, 68005\, United States
END:VEVENT
BEGIN:VEVENT
DTSTART;TZID=America/Chicago:20260319T063000
DTEND;TZID=America/Chicago:20260319T080000
DTSTAMP:20260425T215606
CREATED:20250810T210729Z
LAST-MODIFIED:20251220T140353Z
UID:10000577-1773901800-1773907200@stjamesbellevue.com
SUMMARY:Men's Breakfast Bible Study
DESCRIPTION: 
URL:https://stjamesbellevue.com/event/mens-breakfast-bible-study/2026-03-19/
LOCATION:Lighthouse Cafe\, 119 W Mission Ave\, Bellevue\, Nebraska\, 68005\, United States
END:VEVENT
BEGIN:VEVENT
DTSTART;TZID=America/Chicago:20260318T190000
DTEND;TZID=America/Chicago:20260318T200000
DTSTAMP:20260425T215606
CREATED:20250810T214927Z
LAST-MODIFIED:20260406T010403Z
UID:10000300-1773860400-1773864000@stjamesbellevue.com
SUMMARY:Choir Rehearsal
DESCRIPTION: 
URL:https://stjamesbellevue.com/event/choir-rehearsal/2026-03-18/
LOCATION:St. James UMC Capehart Campus\, 4343 Capehart Road\, Bellevue\, NE 68123\, Nebraska\, 68123
END:VEVENT
BEGIN:VEVENT
DTSTART;TZID=America/Chicago:20260318T170000
DTEND;TZID=America/Chicago:20260318T190000
DTSTAMP:20260425T215606
CREATED:20251220T174830Z
LAST-MODIFIED:20260322T222000Z
UID:10001856-1773853200-1773860400@stjamesbellevue.com
SUMMARY:United Wednesday
DESCRIPTION:5:30pm: Dinner; \n6pm: Adult Pastor led Bible study; Youth group (6th-12th); Children’s Group (Pre K-5th)
URL:https://stjamesbellevue.com/event/united-wednesday/2026-03-18/
LOCATION:St. James UMC Capehart Campus\, 4343 Capehart Road\, Bellevue\, NE 68123\, Nebraska\, 68123
END:VEVENT
BEGIN:VEVENT
DTSTART;TZID=America/Chicago:20260318T170000
DTEND;TZID=America/Chicago:20260318T173000
DTSTAMP:20260425T215606
CREATED:20260127T044809Z
LAST-MODIFIED:20260127T044809Z
UID:10009876-1773853200-1773855000@stjamesbellevue.com
SUMMARY:Tiny Tone Chimes Rehearsal
DESCRIPTION:
URL:https://stjamesbellevue.com/event/tiny-tone-chimes-rehearsal/2026-03-18/
LOCATION:St. James UMC Capehart Campus\, 4343 Capehart Road\, Bellevue\, NE 68123\, Nebraska\, 68123
ORGANIZER;CN="Mamie Bryan":MAILTO:M.bryan@stjamesumc.church
END:VEVENT
BEGIN:VEVENT
DTSTART;TZID=America/Chicago:20260318T163000
DTEND;TZID=America/Chicago:20260318T174500
DTSTAMP:20260425T215606
CREATED:20250810T210729Z
LAST-MODIFIED:20251220T140010Z
UID:10000041-1773851400-1773855900@stjamesbellevue.com
SUMMARY:Praise Band Rehearsal
DESCRIPTION: 
URL:https://stjamesbellevue.com/event/praise-band-rehearsal/2026-03-18/
LOCATION:Nebraska
END:VEVENT
BEGIN:VEVENT
DTSTART;TZID=America/Chicago:20260318T163000
DTEND;TZID=America/Chicago:20260318T173000
DTSTAMP:20260425T215606
CREATED:20260127T044618Z
LAST-MODIFIED:20260127T044618Z
UID:10009615-1773851400-1773855000@stjamesbellevue.com
SUMMARY:Tone Chimes Rehearsal
DESCRIPTION:
URL:https://stjamesbellevue.com/event/tone-chimes-rehearsal/2026-03-18/
LOCATION:St. James UMC Capehart Campus\, 4343 Capehart Road\, Bellevue\, NE 68123\, Nebraska\, 68123
END:VEVENT
BEGIN:VEVENT
DTSTART;TZID=America/Chicago:20260317T073000
DTEND;TZID=America/Chicago:20260317T081500
DTSTAMP:20260425T215606
CREATED:20251224T233425Z
LAST-MODIFIED:20251224T233643Z
UID:10002116-1773732600-1773735300@stjamesbellevue.com
SUMMARY:Devotions with Matt
DESCRIPTION:Come as you are to *Devotions with Matt*—a weekly space where faith meets real life over coffee and conversation. Whether you’re seeking guidance\, carrying questions about God\, or simply looking to be part of a thoughtful\, evolving community\, this gathering offers a gentle rhythm of reflection\, connection\, and shared purpose. \nEach week\, Pastor Matt leads a devotional moment that opens the door to deeper dialogue. Some come with something on their hearts to share. Others come to listen and be encouraged. What began as a stop along the way has become a destination—a safe\, welcoming circle where personal experiences are honored and spiritual growth is nurtured. \nWhether you’re new to devotionals or simply curious\, you’re welcome here. The coffee is warm\, the people are real\, and the Spirit moves gently among us. \n\n\n\n 
URL:https://stjamesbellevue.com/event/devotions-with-matt-4/2026-03-17/
LOCATION:Nebraska
END:VEVENT
BEGIN:VEVENT
DTSTART;TZID=America/Chicago:20260316T190000
DTEND;TZID=America/Chicago:20260316T200000
DTSTAMP:20260425T215606
CREATED:20260211T230712Z
LAST-MODIFIED:20260211T231353Z
UID:10011438-1773687600-1773691200@stjamesbellevue.com
SUMMARY:Finance Committee
DESCRIPTION:
URL:https://stjamesbellevue.com/event/finance-committee-2/2026-03-16/
LOCATION:St. James UMC Capehart Campus\, 4343 Capehart Road\, Bellevue\, NE 68123\, Nebraska\, 68123
END:VEVENT
BEGIN:VEVENT
DTSTART;TZID=America/Chicago:20260316T190000
DTEND;TZID=America/Chicago:20260316T200000
DTSTAMP:20260425T215606
CREATED:20260204T000154Z
LAST-MODIFIED:20260204T000154Z
UID:10001414-1773687600-1773691200@stjamesbellevue.com
SUMMARY:AA Meeting
DESCRIPTION: 
URL:https://stjamesbellevue.com/event/aa-meeting-2/2026-03-16/
LOCATION:St. James UMC Franklin Campus\, 1501 Franklin St\, Bellevue\, Nebraska\, 68005\, United States
END:VEVENT
BEGIN:VEVENT
DTSTART;TZID=America/Chicago:20260316T140000
DTEND;TZID=America/Chicago:20260316T150000
DTSTAMP:20260425T215606
CREATED:20260205T022859Z
LAST-MODIFIED:20260205T022859Z
UID:10011434-1773669600-1773673200@stjamesbellevue.com
SUMMARY:Women's Bible Study: An Unlikely Lent
DESCRIPTION:Join this 6-week study about the extraordinary people of the Easter story. \nThe cost of the book is $18.
URL:https://stjamesbellevue.com/event/womens-bible-study-an-unlikely-lent/2026-03-16/
LOCATION:St. James UMC Capehart Campus\, 4343 Capehart Road\, Bellevue\, NE 68123\, Nebraska\, 68123
ATTACH;FMTTYPE=image/png:https://stjamesbellevue.com/wp-content/uploads/2026/02/Womens-Bible-Study.png
ORGANIZER;CN="Janet Wilberger":MAILTO:jwilberger216@gmail.com
END:VEVENT
BEGIN:VEVENT
DTSTART;TZID=America/Chicago:20260316T073000
DTEND;TZID=America/Chicago:20260316T081500
DTSTAMP:20260425T215606
CREATED:20251224T232948Z
LAST-MODIFIED:20260406T010515Z
UID:10002376-1773646200-1773648900@stjamesbellevue.com
SUMMARY:Devotions with Matt
DESCRIPTION:Each Monday morning\, a small group from St. James gathers with Pastor Matt at a local coffee shop for a time of spiritual reflection\, heartfelt conversation\, and community connection. What began as a simple devotional has become a meaningful ritual—a place where newcomers find welcome\, longtime members deepen relationships\, and the Spirit moves through shared stories and open dialogue. \nWhether you’re curious about faith\, seeking deeper connection\, or simply looking for a place to belong\, this gathering offers a gentle way to engage. It’s where questions are honored\, friendships are formed\, and God’s presence is felt in both quiet moments and lively discussion. For many\, it’s become a sacred start to the week—rooted in grace\, guided by scripture\, and enriched by the voices around the table. \nAll are welcome. Come as you are\, and see where the Spirit leads.
URL:https://stjamesbellevue.com/event/devotions-with-matt-3/2026-03-16/
LOCATION:Nebraska
END:VEVENT
BEGIN:VEVENT
DTSTART;TZID=America/Chicago:20260315T160000
DTEND;TZID=America/Chicago:20260315T170000
DTSTAMP:20260425T215606
CREATED:20260202T230459Z
LAST-MODIFIED:20260202T230459Z
UID:10010639-1773590400-1773594000@stjamesbellevue.com
SUMMARY:Adult Bible Study
DESCRIPTION:Meet us at our Franklin Campus every Sunday at 4pm for a time of study and fellowship.
URL:https://stjamesbellevue.com/event/adult-bible-study/2026-03-15/
LOCATION:St. James UMC Franklin Campus\, 1501 Franklin St\, Bellevue\, Nebraska\, 68005\, United States
END:VEVENT
BEGIN:VEVENT
DTSTART;TZID=America/Chicago:20260315T110000
DTEND;TZID=America/Chicago:20260315T120000
DTSTAMP:20260425T215606
CREATED:20260111T025243Z
LAST-MODIFIED:20260111T025243Z
UID:10008521-1773572400-1773576000@stjamesbellevue.com
SUMMARY:Adult Sunday School
DESCRIPTION:
URL:https://stjamesbellevue.com/event/adult-sunday-school-2/2026-03-15/
LOCATION:St. James UMC Capehart Campus\, 4343 Capehart Road\, Bellevue\, NE 68123\, Nebraska\, 68123
END:VEVENT
BEGIN:VEVENT
DTSTART;TZID=America/Chicago:20260315T093000
DTEND;TZID=America/Chicago:20260315T103000
DTSTAMP:20260425T215606
CREATED:20260127T045839Z
LAST-MODIFIED:20260127T045839Z
UID:10010139-1773567000-1773570600@stjamesbellevue.com
SUMMARY:Adult Sunday School
DESCRIPTION:
URL:https://stjamesbellevue.com/event/adult-sunday-school-3/2026-03-15/
LOCATION:St. James UMC BOTH Locations
END:VEVENT
BEGIN:VEVENT
DTSTART;TZID=America/Chicago:20260314T090000
DTEND;TZID=America/Chicago:20260314T133000
DTSTAMP:20260425T215606
CREATED:20260301T152658Z
LAST-MODIFIED:20260301T152804Z
UID:10011629-1773478800-1773495000@stjamesbellevue.com
SUMMARY:UWIF Spring Meeting
DESCRIPTION:United Women in Faith Spring Meeting \nFeaturing Rev. Stephanie Ahlschwede \nThe United Women in Faith of the Eastern Nebraska District invite you to a meaningful spring gathering celebrating connection\, learning\, and shared purpose. This year’s featured speaker is Rev. Stephanie Ahlschwede\, a familiar and beloved face to many at St. James. Rev. Ahlschwede served as Associate Pastor at St. James UMC from 1997–2000 and has continued to serve the Church in impactful leadership roles throughout the metropolitan area. She now serves as District Superintendent for the Eastern Nebraska District of the United Methodist Church. \nThis event offers a wonderful opportunity to reconnect with Rev. Ahlschwede\, enjoy fellowship with women across the district\, and be inspired by her message. \nSchedule \n\n9:00 a.m. – Informal welcome with light refreshments\n9:30 a.m. – Program begins\n12:30 p.m. – Lunch (please bring $10)\n1:25 p.m. – Closing ceremony\n\nPlease RSVP by March 8 to:\nKris Eschliman\nUWF Secretary\, Eastern Nebraska District\n(402) 250‑3263\nkris.eschliman@gmail.com
URL:https://stjamesbellevue.com/event/uwif-spring-meeting/
LOCATION:Aldersgate United Methodist Church\, 3617 Greene Ave.\, Bellevue\, NE\, 68147
END:VEVENT
BEGIN:VEVENT
DTSTART;TZID=America/Chicago:20260312T190000
DTEND;TZID=America/Chicago:20260312T200000
DTSTAMP:20260425T215606
CREATED:20260204T000154Z
LAST-MODIFIED:20260204T000154Z
UID:10011167-1773342000-1773345600@stjamesbellevue.com
SUMMARY:AA Meeting
DESCRIPTION: 
URL:https://stjamesbellevue.com/event/aa-meeting-2/2026-03-12/
LOCATION:St. James UMC Franklin Campus\, 1501 Franklin St\, Bellevue\, Nebraska\, 68005\, United States
END:VEVENT
END:VCALENDAR