BEGIN:VCALENDAR
VERSION:2.0
PRODID:-//St. James United Methodist Church - ECPv6.15.20//NONSGML v1.0//EN
CALSCALE:GREGORIAN
METHOD:PUBLISH
X-ORIGINAL-URL:https://stjamesbellevue.com
X-WR-CALDESC:Events for St. James United Methodist Church
REFRESH-INTERVAL;VALUE=DURATION:PT1H
X-Robots-Tag:noindex
X-PUBLISHED-TTL:PT1H
BEGIN:VTIMEZONE
TZID:America/Chicago
BEGIN:DAYLIGHT
TZOFFSETFROM:-0600
TZOFFSETTO:-0500
TZNAME:CDT
DTSTART:20250309T080000
END:DAYLIGHT
BEGIN:STANDARD
TZOFFSETFROM:-0500
TZOFFSETTO:-0600
TZNAME:CST
DTSTART:20251102T070000
END:STANDARD
BEGIN:DAYLIGHT
TZOFFSETFROM:-0600
TZOFFSETTO:-0500
TZNAME:CDT
DTSTART:20260308T080000
END:DAYLIGHT
BEGIN:STANDARD
TZOFFSETFROM:-0500
TZOFFSETTO:-0600
TZNAME:CST
DTSTART:20261101T070000
END:STANDARD
BEGIN:DAYLIGHT
TZOFFSETFROM:-0600
TZOFFSETTO:-0500
TZNAME:CDT
DTSTART:20270314T080000
END:DAYLIGHT
BEGIN:STANDARD
TZOFFSETFROM:-0500
TZOFFSETTO:-0600
TZNAME:CST
DTSTART:20271107T070000
END:STANDARD
END:VTIMEZONE
BEGIN:VEVENT
DTSTART;TZID=America/Chicago:20260425T090000
DTEND;TZID=America/Chicago:20260425T110000
DTSTAMP:20260425T140207
CREATED:20260406T010251Z
LAST-MODIFIED:20260406T010251Z
UID:10011716-1777107600-1777114800@stjamesbellevue.com
SUMMARY:Saturday Quilters
DESCRIPTION:We are holding our monthly quilters the 25th due to the Church Rummage Sale scheduled for 18 April.
URL:https://stjamesbellevue.com/event/saturday-quilters-2/
LOCATION:St. James UMC Franklin Campus\, 1501 Franklin St\, Bellevue\, Nebraska\, 68005\, United States
ORGANIZER;CN="Yvonne Goodman":MAILTO:yeggoodman@gmail.com
END:VEVENT
BEGIN:VEVENT
DTSTART;TZID=America/Chicago:20260426T093000
DTEND;TZID=America/Chicago:20260426T103000
DTSTAMP:20260425T140207
CREATED:20260127T045839Z
LAST-MODIFIED:20260127T045839Z
UID:10010145-1777195800-1777199400@stjamesbellevue.com
SUMMARY:Adult Sunday School
DESCRIPTION:
URL:https://stjamesbellevue.com/event/adult-sunday-school-3/2026-04-26/
LOCATION:St. James UMC BOTH Locations
END:VEVENT
BEGIN:VEVENT
DTSTART;TZID=America/Chicago:20260426T110000
DTEND;TZID=America/Chicago:20260426T120000
DTSTAMP:20260425T140208
CREATED:20260111T025243Z
LAST-MODIFIED:20260111T025243Z
UID:10008527-1777201200-1777204800@stjamesbellevue.com
SUMMARY:Adult Sunday School
DESCRIPTION:
URL:https://stjamesbellevue.com/event/adult-sunday-school-2/2026-04-26/
LOCATION:St. James UMC Capehart Campus\, 4343 Capehart Road\, Bellevue\, NE 68123\, Nebraska\, 68123
END:VEVENT
BEGIN:VEVENT
DTSTART;TZID=America/Chicago:20260426T120000
DTEND;TZID=America/Chicago:20260426T130000
DTSTAMP:20260425T140208
CREATED:20260305T231016Z
LAST-MODIFIED:20260305T231017Z
UID:10010396-1777204800-1777208400@stjamesbellevue.com
SUMMARY:Trustees Committee Meeting
DESCRIPTION:
URL:https://stjamesbellevue.com/event/trustees-2-2/2026-04-26/
LOCATION:St. James UMC Capehart Campus\, 4343 Capehart Road\, Bellevue\, NE 68123\, Nebraska\, 68123
ORGANIZER;CN="Glen Stinn":MAILTO:glenstinn@cox.net
END:VEVENT
BEGIN:VEVENT
DTSTART;TZID=America/Chicago:20260426T160000
DTEND;TZID=America/Chicago:20260426T170000
DTSTAMP:20260425T140208
CREATED:20260202T230459Z
LAST-MODIFIED:20260202T230459Z
UID:10010645-1777219200-1777222800@stjamesbellevue.com
SUMMARY:Adult Bible Study
DESCRIPTION:Meet us at our Franklin Campus every Sunday at 4pm for a time of study and fellowship.
URL:https://stjamesbellevue.com/event/adult-bible-study/2026-04-26/
LOCATION:St. James UMC Franklin Campus\, 1501 Franklin St\, Bellevue\, Nebraska\, 68005\, United States
END:VEVENT
BEGIN:VEVENT
DTSTART;TZID=America/Chicago:20260427T073000
DTEND;TZID=America/Chicago:20260427T081500
DTSTAMP:20260425T140208
CREATED:20251224T232948Z
LAST-MODIFIED:20260406T010515Z
UID:10002382-1777275000-1777277700@stjamesbellevue.com
SUMMARY:Devotions with Matt
DESCRIPTION:Each Monday morning\, a small group from St. James gathers with Pastor Matt at a local coffee shop for a time of spiritual reflection\, heartfelt conversation\, and community connection. What began as a simple devotional has become a meaningful ritual—a place where newcomers find welcome\, longtime members deepen relationships\, and the Spirit moves through shared stories and open dialogue. \nWhether you’re curious about faith\, seeking deeper connection\, or simply looking for a place to belong\, this gathering offers a gentle way to engage. It’s where questions are honored\, friendships are formed\, and God’s presence is felt in both quiet moments and lively discussion. For many\, it’s become a sacred start to the week—rooted in grace\, guided by scripture\, and enriched by the voices around the table. \nAll are welcome. Come as you are\, and see where the Spirit leads.
URL:https://stjamesbellevue.com/event/devotions-with-matt-3/2026-04-27/
LOCATION:Nebraska
END:VEVENT
BEGIN:VEVENT
DTSTART;TZID=America/Chicago:20260427T140000
DTEND;TZID=America/Chicago:20260427T150000
DTSTAMP:20260425T140208
CREATED:20260409T210847Z
LAST-MODIFIED:20260409T211119Z
UID:10012184-1777298400-1777302000@stjamesbellevue.com
SUMMARY:Women's Bible Study
DESCRIPTION:
URL:https://stjamesbellevue.com/event/womens-bible-study-4-13/2026-04-27/
LOCATION:St. James UMC Capehart Campus\, 4343 Capehart Road\, Bellevue\, NE 68123\, Nebraska\, 68123
ORGANIZER;CN="Janet Wilberger":MAILTO:jwilberger216@gmail.com
END:VEVENT
BEGIN:VEVENT
DTSTART;TZID=America/Chicago:20260427T183000
DTEND;TZID=America/Chicago:20260427T193000
DTSTAMP:20260425T140208
CREATED:20260127T050232Z
LAST-MODIFIED:20260211T231602Z
UID:10011571-1777314600-1777318200@stjamesbellevue.com
SUMMARY:Outreach Committee Meeting
DESCRIPTION:
URL:https://stjamesbellevue.com/event/outreach-committee-meeting/2026-04-27/
LOCATION:St. James UMC Capehart Campus\, 4343 Capehart Road\, Bellevue\, NE 68123\, Nebraska\, 68123
END:VEVENT
BEGIN:VEVENT
DTSTART;TZID=America/Chicago:20260427T190000
DTEND;TZID=America/Chicago:20260427T200000
DTSTAMP:20260425T140208
CREATED:20260204T000154Z
LAST-MODIFIED:20260204T000154Z
UID:10001420-1777316400-1777320000@stjamesbellevue.com
SUMMARY:AA Meeting
DESCRIPTION: 
URL:https://stjamesbellevue.com/event/aa-meeting-2/2026-04-27/
LOCATION:St. James UMC Franklin Campus\, 1501 Franklin St\, Bellevue\, Nebraska\, 68005\, United States
END:VEVENT
BEGIN:VEVENT
DTSTART;TZID=America/Chicago:20260428T073000
DTEND;TZID=America/Chicago:20260428T081500
DTSTAMP:20260425T140208
CREATED:20251224T233425Z
LAST-MODIFIED:20251224T233643Z
UID:10002122-1777361400-1777364100@stjamesbellevue.com
SUMMARY:Devotions with Matt
DESCRIPTION:Come as you are to *Devotions with Matt*—a weekly space where faith meets real life over coffee and conversation. Whether you’re seeking guidance\, carrying questions about God\, or simply looking to be part of a thoughtful\, evolving community\, this gathering offers a gentle rhythm of reflection\, connection\, and shared purpose. \nEach week\, Pastor Matt leads a devotional moment that opens the door to deeper dialogue. Some come with something on their hearts to share. Others come to listen and be encouraged. What began as a stop along the way has become a destination—a safe\, welcoming circle where personal experiences are honored and spiritual growth is nurtured. \nWhether you’re new to devotionals or simply curious\, you’re welcome here. The coffee is warm\, the people are real\, and the Spirit moves gently among us. \n\n\n\n 
URL:https://stjamesbellevue.com/event/devotions-with-matt-4/2026-04-28/
LOCATION:Nebraska
END:VEVENT
BEGIN:VEVENT
DTSTART;TZID=America/Chicago:20260428T140000
DTEND;TZID=America/Chicago:20260428T160000
DTSTAMP:20260425T140208
CREATED:20260322T221756Z
LAST-MODIFIED:20260322T221757Z
UID:10011642-1777384800-1777392000@stjamesbellevue.com
SUMMARY:Pieceable Kingdom Quilters
DESCRIPTION: 
URL:https://stjamesbellevue.com/event/pieceable-kingdom-quilters-2/2026-04-28/
LOCATION:St. James UMC Franklin Campus\, 1501 Franklin St\, Bellevue\, Nebraska\, 68005\, United States
ORGANIZER;CN="Judy Shaw":MAILTO:jyshaw50@aol.com
END:VEVENT
BEGIN:VEVENT
DTSTART;TZID=America/Chicago:20260429T163000
DTEND;TZID=America/Chicago:20260429T173000
DTSTAMP:20260425T140208
CREATED:20260127T044618Z
LAST-MODIFIED:20260127T044618Z
UID:10009621-1777480200-1777483800@stjamesbellevue.com
SUMMARY:Tone Chimes Rehearsal
DESCRIPTION:
URL:https://stjamesbellevue.com/event/tone-chimes-rehearsal/2026-04-29/
LOCATION:St. James UMC Capehart Campus\, 4343 Capehart Road\, Bellevue\, NE 68123\, Nebraska\, 68123
END:VEVENT
BEGIN:VEVENT
DTSTART;TZID=America/Chicago:20260429T163000
DTEND;TZID=America/Chicago:20260429T174500
DTSTAMP:20260425T140208
CREATED:20250810T210729Z
LAST-MODIFIED:20251220T140010Z
UID:10000047-1777480200-1777484700@stjamesbellevue.com
SUMMARY:Praise Band Rehearsal
DESCRIPTION: 
URL:https://stjamesbellevue.com/event/praise-band-rehearsal/2026-04-29/
LOCATION:Nebraska
END:VEVENT
BEGIN:VEVENT
DTSTART;TZID=America/Chicago:20260429T170000
DTEND;TZID=America/Chicago:20260429T173000
DTSTAMP:20260425T140208
CREATED:20260127T044809Z
LAST-MODIFIED:20260127T044809Z
UID:10009882-1777482000-1777483800@stjamesbellevue.com
SUMMARY:Tiny Tone Chimes Rehearsal
DESCRIPTION:
URL:https://stjamesbellevue.com/event/tiny-tone-chimes-rehearsal/2026-04-29/
LOCATION:St. James UMC Capehart Campus\, 4343 Capehart Road\, Bellevue\, NE 68123\, Nebraska\, 68123
ORGANIZER;CN="Mamie Bryan":MAILTO:M.bryan@stjamesumc.church
END:VEVENT
BEGIN:VEVENT
DTSTART;TZID=America/Chicago:20260429T170000
DTEND;TZID=America/Chicago:20260429T190000
DTSTAMP:20260425T140208
CREATED:20251220T174830Z
LAST-MODIFIED:20260322T222000Z
UID:10001862-1777482000-1777489200@stjamesbellevue.com
SUMMARY:United Wednesday
DESCRIPTION:5:30pm: Dinner; \n6pm: Adult Pastor led Bible study; Youth group (6th-12th); Children’s Group (Pre K-5th)
URL:https://stjamesbellevue.com/event/united-wednesday/2026-04-29/
LOCATION:St. James UMC Capehart Campus\, 4343 Capehart Road\, Bellevue\, NE 68123\, Nebraska\, 68123
END:VEVENT
BEGIN:VEVENT
DTSTART;TZID=America/Chicago:20260429T190000
DTEND;TZID=America/Chicago:20260429T200000
DTSTAMP:20260425T140208
CREATED:20250810T214927Z
LAST-MODIFIED:20260406T010403Z
UID:10000306-1777489200-1777492800@stjamesbellevue.com
SUMMARY:Choir Rehearsal
DESCRIPTION: 
URL:https://stjamesbellevue.com/event/choir-rehearsal/2026-04-29/
LOCATION:St. James UMC Capehart Campus\, 4343 Capehart Road\, Bellevue\, NE 68123\, Nebraska\, 68123
END:VEVENT
BEGIN:VEVENT
DTSTART;TZID=America/Chicago:20260430T063000
DTEND;TZID=America/Chicago:20260430T080000
DTSTAMP:20260425T140208
CREATED:20250810T210729Z
LAST-MODIFIED:20251220T140353Z
UID:10000583-1777530600-1777536000@stjamesbellevue.com
SUMMARY:Men's Breakfast Bible Study
DESCRIPTION: 
URL:https://stjamesbellevue.com/event/mens-breakfast-bible-study/2026-04-30/
LOCATION:Lighthouse Cafe\, 119 W Mission Ave\, Bellevue\, Nebraska\, 68005\, United States
END:VEVENT
BEGIN:VEVENT
DTSTART;TZID=America/Chicago:20260430T190000
DTEND;TZID=America/Chicago:20260430T200000
DTSTAMP:20260425T140208
CREATED:20260204T000154Z
LAST-MODIFIED:20260204T000154Z
UID:10011174-1777575600-1777579200@stjamesbellevue.com
SUMMARY:AA Meeting
DESCRIPTION: 
URL:https://stjamesbellevue.com/event/aa-meeting-2/2026-04-30/
LOCATION:St. James UMC Franklin Campus\, 1501 Franklin St\, Bellevue\, Nebraska\, 68005\, United States
END:VEVENT
BEGIN:VEVENT
DTSTART;TZID=America/Chicago:20260430T190000
DTEND;TZID=America/Chicago:20260430T200000
DTSTAMP:20260425T140208
CREATED:20260318T230633Z
LAST-MODIFIED:20260318T230633Z
UID:10010914-1777575600-1777579200@stjamesbellevue.com
SUMMARY:Handbell Rehearsal
DESCRIPTION:  \n\n\n\n\n\n\n\n\n\n\n\n\n\n 
URL:https://stjamesbellevue.com/event/handbells-rehearsal-2/2026-04-30/
LOCATION:Nebraska
END:VEVENT
END:VCALENDAR