BEGIN:VCALENDAR
VERSION:2.0
PRODID:-//St. James United Methodist Church - ECPv6.15.20//NONSGML v1.0//EN
CALSCALE:GREGORIAN
METHOD:PUBLISH
X-WR-CALNAME:St. James United Methodist Church
X-ORIGINAL-URL:https://stjamesbellevue.com
X-WR-CALDESC:Events for St. James United Methodist Church
REFRESH-INTERVAL;VALUE=DURATION:PT1H
X-Robots-Tag:noindex
X-PUBLISHED-TTL:PT1H
BEGIN:VTIMEZONE
TZID:America/Chicago
BEGIN:DAYLIGHT
TZOFFSETFROM:-0600
TZOFFSETTO:-0500
TZNAME:CDT
DTSTART:20250309T080000
END:DAYLIGHT
BEGIN:STANDARD
TZOFFSETFROM:-0500
TZOFFSETTO:-0600
TZNAME:CST
DTSTART:20251102T070000
END:STANDARD
BEGIN:DAYLIGHT
TZOFFSETFROM:-0600
TZOFFSETTO:-0500
TZNAME:CDT
DTSTART:20260308T080000
END:DAYLIGHT
BEGIN:STANDARD
TZOFFSETFROM:-0500
TZOFFSETTO:-0600
TZNAME:CST
DTSTART:20261101T070000
END:STANDARD
BEGIN:DAYLIGHT
TZOFFSETFROM:-0600
TZOFFSETTO:-0500
TZNAME:CDT
DTSTART:20270314T080000
END:DAYLIGHT
BEGIN:STANDARD
TZOFFSETFROM:-0500
TZOFFSETTO:-0600
TZNAME:CST
DTSTART:20271107T070000
END:STANDARD
BEGIN:DAYLIGHT
TZOFFSETFROM:-0600
TZOFFSETTO:-0500
TZNAME:CDT
DTSTART:20280312T080000
END:DAYLIGHT
BEGIN:STANDARD
TZOFFSETFROM:-0500
TZOFFSETTO:-0600
TZNAME:CST
DTSTART:20281105T070000
END:STANDARD
BEGIN:DAYLIGHT
TZOFFSETFROM:-0600
TZOFFSETTO:-0500
TZNAME:CDT
DTSTART:20290311T080000
END:DAYLIGHT
BEGIN:STANDARD
TZOFFSETFROM:-0500
TZOFFSETTO:-0600
TZNAME:CST
DTSTART:20291104T070000
END:STANDARD
END:VTIMEZONE
BEGIN:VEVENT
DTSTART;TZID=America/Chicago:20260426T120000
DTEND;TZID=America/Chicago:20260426T130000
DTSTAMP:20260425T172527
CREATED:20260305T231016Z
LAST-MODIFIED:20260305T231017Z
UID:10010396-1777204800-1777208400@stjamesbellevue.com
SUMMARY:Trustees Committee Meeting
DESCRIPTION:
URL:https://stjamesbellevue.com/event/trustees-2-2/2026-04-26/
LOCATION:St. James UMC Capehart Campus\, 4343 Capehart Road\, Bellevue\, NE 68123\, Nebraska\, 68123
ORGANIZER;CN="Glen Stinn":MAILTO:glenstinn@cox.net
END:VEVENT
BEGIN:VEVENT
DTSTART;TZID=America/Chicago:20260524T120000
DTEND;TZID=America/Chicago:20260524T130000
DTSTAMP:20260425T172527
CREATED:20260305T231016Z
LAST-MODIFIED:20260305T231017Z
UID:10010397-1779624000-1779627600@stjamesbellevue.com
SUMMARY:Trustees Committee Meeting
DESCRIPTION:
URL:https://stjamesbellevue.com/event/trustees-2-2/2026-05-24/
LOCATION:St. James UMC Capehart Campus\, 4343 Capehart Road\, Bellevue\, NE 68123\, Nebraska\, 68123
ORGANIZER;CN="Glen Stinn":MAILTO:glenstinn@cox.net
END:VEVENT
BEGIN:VEVENT
DTSTART;TZID=America/Chicago:20260628T120000
DTEND;TZID=America/Chicago:20260628T130000
DTSTAMP:20260425T172527
CREATED:20260305T231016Z
LAST-MODIFIED:20260305T231017Z
UID:10010398-1782648000-1782651600@stjamesbellevue.com
SUMMARY:Trustees Committee Meeting
DESCRIPTION:
URL:https://stjamesbellevue.com/event/trustees-2-2/2026-06-28/
LOCATION:St. James UMC Capehart Campus\, 4343 Capehart Road\, Bellevue\, NE 68123\, Nebraska\, 68123
ORGANIZER;CN="Glen Stinn":MAILTO:glenstinn@cox.net
END:VEVENT
BEGIN:VEVENT
DTSTART;TZID=America/Chicago:20260726T120000
DTEND;TZID=America/Chicago:20260726T130000
DTSTAMP:20260425T172527
CREATED:20260305T231016Z
LAST-MODIFIED:20260305T231017Z
UID:10010399-1785067200-1785070800@stjamesbellevue.com
SUMMARY:Trustees Committee Meeting
DESCRIPTION:
URL:https://stjamesbellevue.com/event/trustees-2-2/2026-07-26/
LOCATION:St. James UMC Capehart Campus\, 4343 Capehart Road\, Bellevue\, NE 68123\, Nebraska\, 68123
ORGANIZER;CN="Glen Stinn":MAILTO:glenstinn@cox.net
END:VEVENT
BEGIN:VEVENT
DTSTART;TZID=America/Chicago:20260823T120000
DTEND;TZID=America/Chicago:20260823T130000
DTSTAMP:20260425T172527
CREATED:20260305T231016Z
LAST-MODIFIED:20260305T231017Z
UID:10010400-1787486400-1787490000@stjamesbellevue.com
SUMMARY:Trustees Committee Meeting
DESCRIPTION:
URL:https://stjamesbellevue.com/event/trustees-2-2/2026-08-23/
LOCATION:St. James UMC Capehart Campus\, 4343 Capehart Road\, Bellevue\, NE 68123\, Nebraska\, 68123
ORGANIZER;CN="Glen Stinn":MAILTO:glenstinn@cox.net
END:VEVENT
BEGIN:VEVENT
DTSTART;TZID=America/Chicago:20260927T120000
DTEND;TZID=America/Chicago:20260927T130000
DTSTAMP:20260425T172527
CREATED:20260305T231016Z
LAST-MODIFIED:20260305T231017Z
UID:10010401-1790510400-1790514000@stjamesbellevue.com
SUMMARY:Trustees Committee Meeting
DESCRIPTION:
URL:https://stjamesbellevue.com/event/trustees-2-2/2026-09-27/
LOCATION:St. James UMC Capehart Campus\, 4343 Capehart Road\, Bellevue\, NE 68123\, Nebraska\, 68123
ORGANIZER;CN="Glen Stinn":MAILTO:glenstinn@cox.net
END:VEVENT
BEGIN:VEVENT
DTSTART;TZID=America/Chicago:20261025T120000
DTEND;TZID=America/Chicago:20261025T130000
DTSTAMP:20260425T172527
CREATED:20260305T231016Z
LAST-MODIFIED:20260305T231017Z
UID:10010402-1792929600-1792933200@stjamesbellevue.com
SUMMARY:Trustees Committee Meeting
DESCRIPTION:
URL:https://stjamesbellevue.com/event/trustees-2-2/2026-10-25/
LOCATION:St. James UMC Capehart Campus\, 4343 Capehart Road\, Bellevue\, NE 68123\, Nebraska\, 68123
ORGANIZER;CN="Glen Stinn":MAILTO:glenstinn@cox.net
END:VEVENT
BEGIN:VEVENT
DTSTART;TZID=America/Chicago:20261122T120000
DTEND;TZID=America/Chicago:20261122T130000
DTSTAMP:20260425T172527
CREATED:20260305T231016Z
LAST-MODIFIED:20260305T231017Z
UID:10010403-1795348800-1795352400@stjamesbellevue.com
SUMMARY:Trustees Committee Meeting
DESCRIPTION:
URL:https://stjamesbellevue.com/event/trustees-2-2/2026-11-22/
LOCATION:St. James UMC Capehart Campus\, 4343 Capehart Road\, Bellevue\, NE 68123\, Nebraska\, 68123
ORGANIZER;CN="Glen Stinn":MAILTO:glenstinn@cox.net
END:VEVENT
BEGIN:VEVENT
DTSTART;TZID=America/Chicago:20261227T120000
DTEND;TZID=America/Chicago:20261227T130000
DTSTAMP:20260425T172527
CREATED:20260305T231016Z
LAST-MODIFIED:20260305T231017Z
UID:10010404-1798372800-1798376400@stjamesbellevue.com
SUMMARY:Trustees Committee Meeting
DESCRIPTION:
URL:https://stjamesbellevue.com/event/trustees-2-2/2026-12-27/
LOCATION:St. James UMC Capehart Campus\, 4343 Capehart Road\, Bellevue\, NE 68123\, Nebraska\, 68123
ORGANIZER;CN="Glen Stinn":MAILTO:glenstinn@cox.net
END:VEVENT
BEGIN:VEVENT
DTSTART;TZID=America/Chicago:20270124T120000
DTEND;TZID=America/Chicago:20270124T130000
DTSTAMP:20260425T172527
CREATED:20260305T231016Z
LAST-MODIFIED:20260305T231017Z
UID:10010405-1800792000-1800795600@stjamesbellevue.com
SUMMARY:Trustees Committee Meeting
DESCRIPTION:
URL:https://stjamesbellevue.com/event/trustees-2-2/2027-01-24/
LOCATION:St. James UMC Capehart Campus\, 4343 Capehart Road\, Bellevue\, NE 68123\, Nebraska\, 68123
ORGANIZER;CN="Glen Stinn":MAILTO:glenstinn@cox.net
END:VEVENT
BEGIN:VEVENT
DTSTART;TZID=America/Chicago:20270228T120000
DTEND;TZID=America/Chicago:20270228T130000
DTSTAMP:20260425T172527
CREATED:20260305T231016Z
LAST-MODIFIED:20260305T231017Z
UID:10010406-1803816000-1803819600@stjamesbellevue.com
SUMMARY:Trustees Committee Meeting
DESCRIPTION:
URL:https://stjamesbellevue.com/event/trustees-2-2/2027-02-28/
LOCATION:St. James UMC Capehart Campus\, 4343 Capehart Road\, Bellevue\, NE 68123\, Nebraska\, 68123
ORGANIZER;CN="Glen Stinn":MAILTO:glenstinn@cox.net
END:VEVENT
BEGIN:VEVENT
DTSTART;TZID=America/Chicago:20270328T120000
DTEND;TZID=America/Chicago:20270328T130000
DTSTAMP:20260425T172527
CREATED:20260305T231016Z
LAST-MODIFIED:20260305T231017Z
UID:10010407-1806235200-1806238800@stjamesbellevue.com
SUMMARY:Trustees Committee Meeting
DESCRIPTION:
URL:https://stjamesbellevue.com/event/trustees-2-2/2027-03-28/
LOCATION:St. James UMC Capehart Campus\, 4343 Capehart Road\, Bellevue\, NE 68123\, Nebraska\, 68123
ORGANIZER;CN="Glen Stinn":MAILTO:glenstinn@cox.net
END:VEVENT
BEGIN:VEVENT
DTSTART;TZID=America/Chicago:20270425T120000
DTEND;TZID=America/Chicago:20270425T130000
DTSTAMP:20260425T172527
CREATED:20260305T231016Z
LAST-MODIFIED:20260305T231017Z
UID:10010408-1808654400-1808658000@stjamesbellevue.com
SUMMARY:Trustees Committee Meeting
DESCRIPTION:
URL:https://stjamesbellevue.com/event/trustees-2-2/2027-04-25/
LOCATION:St. James UMC Capehart Campus\, 4343 Capehart Road\, Bellevue\, NE 68123\, Nebraska\, 68123
ORGANIZER;CN="Glen Stinn":MAILTO:glenstinn@cox.net
END:VEVENT
BEGIN:VEVENT
DTSTART;TZID=America/Chicago:20270523T120000
DTEND;TZID=America/Chicago:20270523T130000
DTSTAMP:20260425T172527
CREATED:20260305T231016Z
LAST-MODIFIED:20260305T231017Z
UID:10010409-1811073600-1811077200@stjamesbellevue.com
SUMMARY:Trustees Committee Meeting
DESCRIPTION:
URL:https://stjamesbellevue.com/event/trustees-2-2/2027-05-23/
LOCATION:St. James UMC Capehart Campus\, 4343 Capehart Road\, Bellevue\, NE 68123\, Nebraska\, 68123
ORGANIZER;CN="Glen Stinn":MAILTO:glenstinn@cox.net
END:VEVENT
BEGIN:VEVENT
DTSTART;TZID=America/Chicago:20270627T120000
DTEND;TZID=America/Chicago:20270627T130000
DTSTAMP:20260425T172527
CREATED:20260305T231016Z
LAST-MODIFIED:20260305T231017Z
UID:10010410-1814097600-1814101200@stjamesbellevue.com
SUMMARY:Trustees Committee Meeting
DESCRIPTION:
URL:https://stjamesbellevue.com/event/trustees-2-2/2027-06-27/
LOCATION:St. James UMC Capehart Campus\, 4343 Capehart Road\, Bellevue\, NE 68123\, Nebraska\, 68123
ORGANIZER;CN="Glen Stinn":MAILTO:glenstinn@cox.net
END:VEVENT
BEGIN:VEVENT
DTSTART;TZID=America/Chicago:20270725T120000
DTEND;TZID=America/Chicago:20270725T130000
DTSTAMP:20260425T172527
CREATED:20260305T231016Z
LAST-MODIFIED:20260305T231017Z
UID:10010411-1816516800-1816520400@stjamesbellevue.com
SUMMARY:Trustees Committee Meeting
DESCRIPTION:
URL:https://stjamesbellevue.com/event/trustees-2-2/2027-07-25/
LOCATION:St. James UMC Capehart Campus\, 4343 Capehart Road\, Bellevue\, NE 68123\, Nebraska\, 68123
ORGANIZER;CN="Glen Stinn":MAILTO:glenstinn@cox.net
END:VEVENT
BEGIN:VEVENT
DTSTART;TZID=America/Chicago:20270822T120000
DTEND;TZID=America/Chicago:20270822T130000
DTSTAMP:20260425T172527
CREATED:20260305T231016Z
LAST-MODIFIED:20260305T231017Z
UID:10010412-1818936000-1818939600@stjamesbellevue.com
SUMMARY:Trustees Committee Meeting
DESCRIPTION:
URL:https://stjamesbellevue.com/event/trustees-2-2/2027-08-22/
LOCATION:St. James UMC Capehart Campus\, 4343 Capehart Road\, Bellevue\, NE 68123\, Nebraska\, 68123
ORGANIZER;CN="Glen Stinn":MAILTO:glenstinn@cox.net
END:VEVENT
BEGIN:VEVENT
DTSTART;TZID=America/Chicago:20270926T120000
DTEND;TZID=America/Chicago:20270926T130000
DTSTAMP:20260425T172527
CREATED:20260305T231016Z
LAST-MODIFIED:20260305T231017Z
UID:10010413-1821960000-1821963600@stjamesbellevue.com
SUMMARY:Trustees Committee Meeting
DESCRIPTION:
URL:https://stjamesbellevue.com/event/trustees-2-2/2027-09-26/
LOCATION:St. James UMC Capehart Campus\, 4343 Capehart Road\, Bellevue\, NE 68123\, Nebraska\, 68123
ORGANIZER;CN="Glen Stinn":MAILTO:glenstinn@cox.net
END:VEVENT
BEGIN:VEVENT
DTSTART;TZID=America/Chicago:20271024T120000
DTEND;TZID=America/Chicago:20271024T130000
DTSTAMP:20260425T172527
CREATED:20260305T231016Z
LAST-MODIFIED:20260305T231017Z
UID:10010414-1824379200-1824382800@stjamesbellevue.com
SUMMARY:Trustees Committee Meeting
DESCRIPTION:
URL:https://stjamesbellevue.com/event/trustees-2-2/2027-10-24/
LOCATION:St. James UMC Capehart Campus\, 4343 Capehart Road\, Bellevue\, NE 68123\, Nebraska\, 68123
ORGANIZER;CN="Glen Stinn":MAILTO:glenstinn@cox.net
END:VEVENT
BEGIN:VEVENT
DTSTART;TZID=America/Chicago:20271128T120000
DTEND;TZID=America/Chicago:20271128T130000
DTSTAMP:20260425T172527
CREATED:20260305T231016Z
LAST-MODIFIED:20260305T231017Z
UID:10010415-1827403200-1827406800@stjamesbellevue.com
SUMMARY:Trustees Committee Meeting
DESCRIPTION:
URL:https://stjamesbellevue.com/event/trustees-2-2/2027-11-28/
LOCATION:St. James UMC Capehart Campus\, 4343 Capehart Road\, Bellevue\, NE 68123\, Nebraska\, 68123
ORGANIZER;CN="Glen Stinn":MAILTO:glenstinn@cox.net
END:VEVENT
BEGIN:VEVENT
DTSTART;TZID=America/Chicago:20271226T120000
DTEND;TZID=America/Chicago:20271226T130000
DTSTAMP:20260425T172527
CREATED:20260305T231016Z
LAST-MODIFIED:20260305T231017Z
UID:10010416-1829822400-1829826000@stjamesbellevue.com
SUMMARY:Trustees Committee Meeting
DESCRIPTION:
URL:https://stjamesbellevue.com/event/trustees-2-2/2027-12-26/
LOCATION:St. James UMC Capehart Campus\, 4343 Capehart Road\, Bellevue\, NE 68123\, Nebraska\, 68123
ORGANIZER;CN="Glen Stinn":MAILTO:glenstinn@cox.net
END:VEVENT
BEGIN:VEVENT
DTSTART;TZID=America/Chicago:20280123T120000
DTEND;TZID=America/Chicago:20280123T130000
DTSTAMP:20260425T172527
CREATED:20260305T231016Z
LAST-MODIFIED:20260305T231017Z
UID:10010417-1832241600-1832245200@stjamesbellevue.com
SUMMARY:Trustees Committee Meeting
DESCRIPTION:
URL:https://stjamesbellevue.com/event/trustees-2-2/2028-01-23/
LOCATION:St. James UMC Capehart Campus\, 4343 Capehart Road\, Bellevue\, NE 68123\, Nebraska\, 68123
ORGANIZER;CN="Glen Stinn":MAILTO:glenstinn@cox.net
END:VEVENT
BEGIN:VEVENT
DTSTART;TZID=America/Chicago:20280227T120000
DTEND;TZID=America/Chicago:20280227T130000
DTSTAMP:20260425T172527
CREATED:20260305T231016Z
LAST-MODIFIED:20260305T231017Z
UID:10010418-1835265600-1835269200@stjamesbellevue.com
SUMMARY:Trustees Committee Meeting
DESCRIPTION:
URL:https://stjamesbellevue.com/event/trustees-2-2/2028-02-27/
LOCATION:St. James UMC Capehart Campus\, 4343 Capehart Road\, Bellevue\, NE 68123\, Nebraska\, 68123
ORGANIZER;CN="Glen Stinn":MAILTO:glenstinn@cox.net
END:VEVENT
BEGIN:VEVENT
DTSTART;TZID=America/Chicago:20280326T120000
DTEND;TZID=America/Chicago:20280326T130000
DTSTAMP:20260425T172527
CREATED:20260305T231016Z
LAST-MODIFIED:20260305T231017Z
UID:10010419-1837684800-1837688400@stjamesbellevue.com
SUMMARY:Trustees Committee Meeting
DESCRIPTION:
URL:https://stjamesbellevue.com/event/trustees-2-2/2028-03-26/
LOCATION:St. James UMC Capehart Campus\, 4343 Capehart Road\, Bellevue\, NE 68123\, Nebraska\, 68123
ORGANIZER;CN="Glen Stinn":MAILTO:glenstinn@cox.net
END:VEVENT
BEGIN:VEVENT
DTSTART;TZID=America/Chicago:20280423T120000
DTEND;TZID=America/Chicago:20280423T130000
DTSTAMP:20260425T172527
CREATED:20260305T231016Z
LAST-MODIFIED:20260305T231017Z
UID:10010420-1840104000-1840107600@stjamesbellevue.com
SUMMARY:Trustees Committee Meeting
DESCRIPTION:
URL:https://stjamesbellevue.com/event/trustees-2-2/2028-04-23/
LOCATION:St. James UMC Capehart Campus\, 4343 Capehart Road\, Bellevue\, NE 68123\, Nebraska\, 68123
ORGANIZER;CN="Glen Stinn":MAILTO:glenstinn@cox.net
END:VEVENT
BEGIN:VEVENT
DTSTART;TZID=America/Chicago:20280528T120000
DTEND;TZID=America/Chicago:20280528T130000
DTSTAMP:20260425T172527
CREATED:20260305T231016Z
LAST-MODIFIED:20260305T231017Z
UID:10010421-1843128000-1843131600@stjamesbellevue.com
SUMMARY:Trustees Committee Meeting
DESCRIPTION:
URL:https://stjamesbellevue.com/event/trustees-2-2/2028-05-28/
LOCATION:St. James UMC Capehart Campus\, 4343 Capehart Road\, Bellevue\, NE 68123\, Nebraska\, 68123
ORGANIZER;CN="Glen Stinn":MAILTO:glenstinn@cox.net
END:VEVENT
BEGIN:VEVENT
DTSTART;TZID=America/Chicago:20280625T120000
DTEND;TZID=America/Chicago:20280625T130000
DTSTAMP:20260425T172527
CREATED:20260305T231016Z
LAST-MODIFIED:20260305T231017Z
UID:10010422-1845547200-1845550800@stjamesbellevue.com
SUMMARY:Trustees Committee Meeting
DESCRIPTION:
URL:https://stjamesbellevue.com/event/trustees-2-2/2028-06-25/
LOCATION:St. James UMC Capehart Campus\, 4343 Capehart Road\, Bellevue\, NE 68123\, Nebraska\, 68123
ORGANIZER;CN="Glen Stinn":MAILTO:glenstinn@cox.net
END:VEVENT
BEGIN:VEVENT
DTSTART;TZID=America/Chicago:20280723T120000
DTEND;TZID=America/Chicago:20280723T130000
DTSTAMP:20260425T172527
CREATED:20260305T231016Z
LAST-MODIFIED:20260305T231017Z
UID:10010423-1847966400-1847970000@stjamesbellevue.com
SUMMARY:Trustees Committee Meeting
DESCRIPTION:
URL:https://stjamesbellevue.com/event/trustees-2-2/2028-07-23/
LOCATION:St. James UMC Capehart Campus\, 4343 Capehart Road\, Bellevue\, NE 68123\, Nebraska\, 68123
ORGANIZER;CN="Glen Stinn":MAILTO:glenstinn@cox.net
END:VEVENT
BEGIN:VEVENT
DTSTART;TZID=America/Chicago:20280827T120000
DTEND;TZID=America/Chicago:20280827T130000
DTSTAMP:20260425T172527
CREATED:20260305T231016Z
LAST-MODIFIED:20260305T231017Z
UID:10010424-1850990400-1850994000@stjamesbellevue.com
SUMMARY:Trustees Committee Meeting
DESCRIPTION:
URL:https://stjamesbellevue.com/event/trustees-2-2/2028-08-27/
LOCATION:St. James UMC Capehart Campus\, 4343 Capehart Road\, Bellevue\, NE 68123\, Nebraska\, 68123
ORGANIZER;CN="Glen Stinn":MAILTO:glenstinn@cox.net
END:VEVENT
BEGIN:VEVENT
DTSTART;TZID=America/Chicago:20280924T120000
DTEND;TZID=America/Chicago:20280924T130000
DTSTAMP:20260425T172527
CREATED:20260305T231016Z
LAST-MODIFIED:20260305T231017Z
UID:10010425-1853409600-1853413200@stjamesbellevue.com
SUMMARY:Trustees Committee Meeting
DESCRIPTION:
URL:https://stjamesbellevue.com/event/trustees-2-2/2028-09-24/
LOCATION:St. James UMC Capehart Campus\, 4343 Capehart Road\, Bellevue\, NE 68123\, Nebraska\, 68123
ORGANIZER;CN="Glen Stinn":MAILTO:glenstinn@cox.net
END:VEVENT
END:VCALENDAR