BEGIN:VCALENDAR
VERSION:2.0
PRODID:-//St. James United Methodist Church - ECPv6.15.20//NONSGML v1.0//EN
CALSCALE:GREGORIAN
METHOD:PUBLISH
X-WR-CALNAME:St. James United Methodist Church
X-ORIGINAL-URL:https://stjamesbellevue.com
X-WR-CALDESC:Events for St. James United Methodist Church
REFRESH-INTERVAL;VALUE=DURATION:PT1H
X-Robots-Tag:noindex
X-PUBLISHED-TTL:PT1H
BEGIN:VTIMEZONE
TZID:America/Chicago
BEGIN:DAYLIGHT
TZOFFSETFROM:-0600
TZOFFSETTO:-0500
TZNAME:CDT
DTSTART:20250309T080000
END:DAYLIGHT
BEGIN:STANDARD
TZOFFSETFROM:-0500
TZOFFSETTO:-0600
TZNAME:CST
DTSTART:20251102T070000
END:STANDARD
BEGIN:DAYLIGHT
TZOFFSETFROM:-0600
TZOFFSETTO:-0500
TZNAME:CDT
DTSTART:20260308T080000
END:DAYLIGHT
BEGIN:STANDARD
TZOFFSETFROM:-0500
TZOFFSETTO:-0600
TZNAME:CST
DTSTART:20261101T070000
END:STANDARD
BEGIN:DAYLIGHT
TZOFFSETFROM:-0600
TZOFFSETTO:-0500
TZNAME:CDT
DTSTART:20270314T080000
END:DAYLIGHT
BEGIN:STANDARD
TZOFFSETFROM:-0500
TZOFFSETTO:-0600
TZNAME:CST
DTSTART:20271107T070000
END:STANDARD
BEGIN:DAYLIGHT
TZOFFSETFROM:-0600
TZOFFSETTO:-0500
TZNAME:CDT
DTSTART:20280312T080000
END:DAYLIGHT
BEGIN:STANDARD
TZOFFSETFROM:-0500
TZOFFSETTO:-0600
TZNAME:CST
DTSTART:20281105T070000
END:STANDARD
BEGIN:DAYLIGHT
TZOFFSETFROM:-0600
TZOFFSETTO:-0500
TZNAME:CDT
DTSTART:20290311T080000
END:DAYLIGHT
BEGIN:STANDARD
TZOFFSETFROM:-0500
TZOFFSETTO:-0600
TZNAME:CST
DTSTART:20291104T070000
END:STANDARD
END:VTIMEZONE
BEGIN:VEVENT
DTSTART;TZID=America/Chicago:20260516T090000
DTEND;TZID=America/Chicago:20260516T110000
DTSTAMP:20260425T193735
CREATED:20250810T210729Z
LAST-MODIFIED:20260406T010057Z
UID:10010517-1778922000-1778929200@stjamesbellevue.com
SUMMARY:Saturday Quilters
DESCRIPTION: 
URL:https://stjamesbellevue.com/event/saturday-quilters/2026-05-16/
LOCATION:St. James UMC Franklin Campus\, 1501 Franklin St\, Bellevue\, Nebraska\, 68005\, United States
ORGANIZER;CN="Yvonne Goodman":MAILTO:yeggoodman@gmail.com
END:VEVENT
BEGIN:VEVENT
DTSTART;TZID=America/Chicago:20260620T090000
DTEND;TZID=America/Chicago:20260620T110000
DTSTAMP:20260425T193735
CREATED:20250810T210729Z
LAST-MODIFIED:20260406T010057Z
UID:10010518-1781946000-1781953200@stjamesbellevue.com
SUMMARY:Saturday Quilters
DESCRIPTION: 
URL:https://stjamesbellevue.com/event/saturday-quilters/2026-06-20/
LOCATION:St. James UMC Franklin Campus\, 1501 Franklin St\, Bellevue\, Nebraska\, 68005\, United States
ORGANIZER;CN="Yvonne Goodman":MAILTO:yeggoodman@gmail.com
END:VEVENT
BEGIN:VEVENT
DTSTART;TZID=America/Chicago:20260718T090000
DTEND;TZID=America/Chicago:20260718T110000
DTSTAMP:20260425T193735
CREATED:20250810T210729Z
LAST-MODIFIED:20260406T010057Z
UID:10010519-1784365200-1784372400@stjamesbellevue.com
SUMMARY:Saturday Quilters
DESCRIPTION: 
URL:https://stjamesbellevue.com/event/saturday-quilters/2026-07-18/
LOCATION:St. James UMC Franklin Campus\, 1501 Franklin St\, Bellevue\, Nebraska\, 68005\, United States
ORGANIZER;CN="Yvonne Goodman":MAILTO:yeggoodman@gmail.com
END:VEVENT
BEGIN:VEVENT
DTSTART;TZID=America/Chicago:20260815T090000
DTEND;TZID=America/Chicago:20260815T110000
DTSTAMP:20260425T193735
CREATED:20250810T210729Z
LAST-MODIFIED:20260406T010057Z
UID:10010520-1786784400-1786791600@stjamesbellevue.com
SUMMARY:Saturday Quilters
DESCRIPTION: 
URL:https://stjamesbellevue.com/event/saturday-quilters/2026-08-15/
LOCATION:St. James UMC Franklin Campus\, 1501 Franklin St\, Bellevue\, Nebraska\, 68005\, United States
ORGANIZER;CN="Yvonne Goodman":MAILTO:yeggoodman@gmail.com
END:VEVENT
BEGIN:VEVENT
DTSTART;TZID=America/Chicago:20260919T090000
DTEND;TZID=America/Chicago:20260919T110000
DTSTAMP:20260425T193735
CREATED:20250810T210729Z
LAST-MODIFIED:20260406T010057Z
UID:10010521-1789808400-1789815600@stjamesbellevue.com
SUMMARY:Saturday Quilters
DESCRIPTION: 
URL:https://stjamesbellevue.com/event/saturday-quilters/2026-09-19/
LOCATION:St. James UMC Franklin Campus\, 1501 Franklin St\, Bellevue\, Nebraska\, 68005\, United States
ORGANIZER;CN="Yvonne Goodman":MAILTO:yeggoodman@gmail.com
END:VEVENT
BEGIN:VEVENT
DTSTART;TZID=America/Chicago:20261017T090000
DTEND;TZID=America/Chicago:20261017T110000
DTSTAMP:20260425T193735
CREATED:20250810T210729Z
LAST-MODIFIED:20260406T010057Z
UID:10010522-1792227600-1792234800@stjamesbellevue.com
SUMMARY:Saturday Quilters
DESCRIPTION: 
URL:https://stjamesbellevue.com/event/saturday-quilters/2026-10-17/
LOCATION:St. James UMC Franklin Campus\, 1501 Franklin St\, Bellevue\, Nebraska\, 68005\, United States
ORGANIZER;CN="Yvonne Goodman":MAILTO:yeggoodman@gmail.com
END:VEVENT
BEGIN:VEVENT
DTSTART;TZID=America/Chicago:20261121T090000
DTEND;TZID=America/Chicago:20261121T110000
DTSTAMP:20260425T193735
CREATED:20250810T210729Z
LAST-MODIFIED:20260406T010057Z
UID:10010523-1795251600-1795258800@stjamesbellevue.com
SUMMARY:Saturday Quilters
DESCRIPTION: 
URL:https://stjamesbellevue.com/event/saturday-quilters/2026-11-21/
LOCATION:St. James UMC Franklin Campus\, 1501 Franklin St\, Bellevue\, Nebraska\, 68005\, United States
ORGANIZER;CN="Yvonne Goodman":MAILTO:yeggoodman@gmail.com
END:VEVENT
BEGIN:VEVENT
DTSTART;TZID=America/Chicago:20261219T090000
DTEND;TZID=America/Chicago:20261219T110000
DTSTAMP:20260425T193735
CREATED:20250810T210729Z
LAST-MODIFIED:20260406T010057Z
UID:10010524-1797670800-1797678000@stjamesbellevue.com
SUMMARY:Saturday Quilters
DESCRIPTION: 
URL:https://stjamesbellevue.com/event/saturday-quilters/2026-12-19/
LOCATION:St. James UMC Franklin Campus\, 1501 Franklin St\, Bellevue\, Nebraska\, 68005\, United States
ORGANIZER;CN="Yvonne Goodman":MAILTO:yeggoodman@gmail.com
END:VEVENT
BEGIN:VEVENT
DTSTART;TZID=America/Chicago:20270116T090000
DTEND;TZID=America/Chicago:20270116T110000
DTSTAMP:20260425T193735
CREATED:20250810T210729Z
LAST-MODIFIED:20260406T010057Z
UID:10010525-1800090000-1800097200@stjamesbellevue.com
SUMMARY:Saturday Quilters
DESCRIPTION: 
URL:https://stjamesbellevue.com/event/saturday-quilters/2027-01-16/
LOCATION:St. James UMC Franklin Campus\, 1501 Franklin St\, Bellevue\, Nebraska\, 68005\, United States
ORGANIZER;CN="Yvonne Goodman":MAILTO:yeggoodman@gmail.com
END:VEVENT
BEGIN:VEVENT
DTSTART;TZID=America/Chicago:20270220T090000
DTEND;TZID=America/Chicago:20270220T110000
DTSTAMP:20260425T193735
CREATED:20250810T210729Z
LAST-MODIFIED:20260406T010057Z
UID:10010526-1803114000-1803121200@stjamesbellevue.com
SUMMARY:Saturday Quilters
DESCRIPTION: 
URL:https://stjamesbellevue.com/event/saturday-quilters/2027-02-20/
LOCATION:St. James UMC Franklin Campus\, 1501 Franklin St\, Bellevue\, Nebraska\, 68005\, United States
ORGANIZER;CN="Yvonne Goodman":MAILTO:yeggoodman@gmail.com
END:VEVENT
BEGIN:VEVENT
DTSTART;TZID=America/Chicago:20270320T090000
DTEND;TZID=America/Chicago:20270320T110000
DTSTAMP:20260425T193735
CREATED:20250810T210729Z
LAST-MODIFIED:20260406T010057Z
UID:10010527-1805533200-1805540400@stjamesbellevue.com
SUMMARY:Saturday Quilters
DESCRIPTION: 
URL:https://stjamesbellevue.com/event/saturday-quilters/2027-03-20/
LOCATION:St. James UMC Franklin Campus\, 1501 Franklin St\, Bellevue\, Nebraska\, 68005\, United States
ORGANIZER;CN="Yvonne Goodman":MAILTO:yeggoodman@gmail.com
END:VEVENT
BEGIN:VEVENT
DTSTART;TZID=America/Chicago:20270417T090000
DTEND;TZID=America/Chicago:20270417T110000
DTSTAMP:20260425T193735
CREATED:20250810T210729Z
LAST-MODIFIED:20260406T010057Z
UID:10010528-1807952400-1807959600@stjamesbellevue.com
SUMMARY:Saturday Quilters
DESCRIPTION: 
URL:https://stjamesbellevue.com/event/saturday-quilters/2027-04-17/
LOCATION:St. James UMC Franklin Campus\, 1501 Franklin St\, Bellevue\, Nebraska\, 68005\, United States
ORGANIZER;CN="Yvonne Goodman":MAILTO:yeggoodman@gmail.com
END:VEVENT
BEGIN:VEVENT
DTSTART;TZID=America/Chicago:20270515T090000
DTEND;TZID=America/Chicago:20270515T110000
DTSTAMP:20260425T193735
CREATED:20250810T210729Z
LAST-MODIFIED:20260406T010057Z
UID:10010529-1810371600-1810378800@stjamesbellevue.com
SUMMARY:Saturday Quilters
DESCRIPTION: 
URL:https://stjamesbellevue.com/event/saturday-quilters/2027-05-15/
LOCATION:St. James UMC Franklin Campus\, 1501 Franklin St\, Bellevue\, Nebraska\, 68005\, United States
ORGANIZER;CN="Yvonne Goodman":MAILTO:yeggoodman@gmail.com
END:VEVENT
BEGIN:VEVENT
DTSTART;TZID=America/Chicago:20270619T090000
DTEND;TZID=America/Chicago:20270619T110000
DTSTAMP:20260425T193735
CREATED:20250810T210729Z
LAST-MODIFIED:20260406T010057Z
UID:10010530-1813395600-1813402800@stjamesbellevue.com
SUMMARY:Saturday Quilters
DESCRIPTION: 
URL:https://stjamesbellevue.com/event/saturday-quilters/2027-06-19/
LOCATION:St. James UMC Franklin Campus\, 1501 Franklin St\, Bellevue\, Nebraska\, 68005\, United States
ORGANIZER;CN="Yvonne Goodman":MAILTO:yeggoodman@gmail.com
END:VEVENT
BEGIN:VEVENT
DTSTART;TZID=America/Chicago:20270717T090000
DTEND;TZID=America/Chicago:20270717T110000
DTSTAMP:20260425T193735
CREATED:20250810T210729Z
LAST-MODIFIED:20260406T010057Z
UID:10010531-1815814800-1815822000@stjamesbellevue.com
SUMMARY:Saturday Quilters
DESCRIPTION: 
URL:https://stjamesbellevue.com/event/saturday-quilters/2027-07-17/
LOCATION:St. James UMC Franklin Campus\, 1501 Franklin St\, Bellevue\, Nebraska\, 68005\, United States
ORGANIZER;CN="Yvonne Goodman":MAILTO:yeggoodman@gmail.com
END:VEVENT
BEGIN:VEVENT
DTSTART;TZID=America/Chicago:20270821T090000
DTEND;TZID=America/Chicago:20270821T110000
DTSTAMP:20260425T193735
CREATED:20250810T210729Z
LAST-MODIFIED:20260406T010057Z
UID:10010532-1818838800-1818846000@stjamesbellevue.com
SUMMARY:Saturday Quilters
DESCRIPTION: 
URL:https://stjamesbellevue.com/event/saturday-quilters/2027-08-21/
LOCATION:St. James UMC Franklin Campus\, 1501 Franklin St\, Bellevue\, Nebraska\, 68005\, United States
ORGANIZER;CN="Yvonne Goodman":MAILTO:yeggoodman@gmail.com
END:VEVENT
BEGIN:VEVENT
DTSTART;TZID=America/Chicago:20270918T090000
DTEND;TZID=America/Chicago:20270918T110000
DTSTAMP:20260425T193735
CREATED:20250810T210729Z
LAST-MODIFIED:20260406T010057Z
UID:10010533-1821258000-1821265200@stjamesbellevue.com
SUMMARY:Saturday Quilters
DESCRIPTION: 
URL:https://stjamesbellevue.com/event/saturday-quilters/2027-09-18/
LOCATION:St. James UMC Franklin Campus\, 1501 Franklin St\, Bellevue\, Nebraska\, 68005\, United States
ORGANIZER;CN="Yvonne Goodman":MAILTO:yeggoodman@gmail.com
END:VEVENT
BEGIN:VEVENT
DTSTART;TZID=America/Chicago:20271016T090000
DTEND;TZID=America/Chicago:20271016T110000
DTSTAMP:20260425T193735
CREATED:20250810T210729Z
LAST-MODIFIED:20260406T010057Z
UID:10010534-1823677200-1823684400@stjamesbellevue.com
SUMMARY:Saturday Quilters
DESCRIPTION: 
URL:https://stjamesbellevue.com/event/saturday-quilters/2027-10-16/
LOCATION:St. James UMC Franklin Campus\, 1501 Franklin St\, Bellevue\, Nebraska\, 68005\, United States
ORGANIZER;CN="Yvonne Goodman":MAILTO:yeggoodman@gmail.com
END:VEVENT
BEGIN:VEVENT
DTSTART;TZID=America/Chicago:20271120T090000
DTEND;TZID=America/Chicago:20271120T110000
DTSTAMP:20260425T193735
CREATED:20250810T210729Z
LAST-MODIFIED:20260406T010057Z
UID:10010535-1826701200-1826708400@stjamesbellevue.com
SUMMARY:Saturday Quilters
DESCRIPTION: 
URL:https://stjamesbellevue.com/event/saturday-quilters/2027-11-20/
LOCATION:St. James UMC Franklin Campus\, 1501 Franklin St\, Bellevue\, Nebraska\, 68005\, United States
ORGANIZER;CN="Yvonne Goodman":MAILTO:yeggoodman@gmail.com
END:VEVENT
BEGIN:VEVENT
DTSTART;TZID=America/Chicago:20271218T090000
DTEND;TZID=America/Chicago:20271218T110000
DTSTAMP:20260425T193735
CREATED:20250810T210729Z
LAST-MODIFIED:20260406T010057Z
UID:10010536-1829120400-1829127600@stjamesbellevue.com
SUMMARY:Saturday Quilters
DESCRIPTION: 
URL:https://stjamesbellevue.com/event/saturday-quilters/2027-12-18/
LOCATION:St. James UMC Franklin Campus\, 1501 Franklin St\, Bellevue\, Nebraska\, 68005\, United States
ORGANIZER;CN="Yvonne Goodman":MAILTO:yeggoodman@gmail.com
END:VEVENT
BEGIN:VEVENT
DTSTART;TZID=America/Chicago:20280115T090000
DTEND;TZID=America/Chicago:20280115T110000
DTSTAMP:20260425T193735
CREATED:20250810T210729Z
LAST-MODIFIED:20260406T010057Z
UID:10010537-1831539600-1831546800@stjamesbellevue.com
SUMMARY:Saturday Quilters
DESCRIPTION: 
URL:https://stjamesbellevue.com/event/saturday-quilters/2028-01-15/
LOCATION:St. James UMC Franklin Campus\, 1501 Franklin St\, Bellevue\, Nebraska\, 68005\, United States
ORGANIZER;CN="Yvonne Goodman":MAILTO:yeggoodman@gmail.com
END:VEVENT
BEGIN:VEVENT
DTSTART;TZID=America/Chicago:20280219T090000
DTEND;TZID=America/Chicago:20280219T110000
DTSTAMP:20260425T193735
CREATED:20250810T210729Z
LAST-MODIFIED:20260406T010057Z
UID:10010538-1834563600-1834570800@stjamesbellevue.com
SUMMARY:Saturday Quilters
DESCRIPTION: 
URL:https://stjamesbellevue.com/event/saturday-quilters/2028-02-19/
LOCATION:St. James UMC Franklin Campus\, 1501 Franklin St\, Bellevue\, Nebraska\, 68005\, United States
ORGANIZER;CN="Yvonne Goodman":MAILTO:yeggoodman@gmail.com
END:VEVENT
BEGIN:VEVENT
DTSTART;TZID=America/Chicago:20280318T090000
DTEND;TZID=America/Chicago:20280318T110000
DTSTAMP:20260425T193735
CREATED:20250810T210729Z
LAST-MODIFIED:20260406T010057Z
UID:10010539-1836982800-1836990000@stjamesbellevue.com
SUMMARY:Saturday Quilters
DESCRIPTION: 
URL:https://stjamesbellevue.com/event/saturday-quilters/2028-03-18/
LOCATION:St. James UMC Franklin Campus\, 1501 Franklin St\, Bellevue\, Nebraska\, 68005\, United States
ORGANIZER;CN="Yvonne Goodman":MAILTO:yeggoodman@gmail.com
END:VEVENT
BEGIN:VEVENT
DTSTART;TZID=America/Chicago:20280415T090000
DTEND;TZID=America/Chicago:20280415T110000
DTSTAMP:20260425T193735
CREATED:20250810T210729Z
LAST-MODIFIED:20260406T010057Z
UID:10010540-1839402000-1839409200@stjamesbellevue.com
SUMMARY:Saturday Quilters
DESCRIPTION: 
URL:https://stjamesbellevue.com/event/saturday-quilters/2028-04-15/
LOCATION:St. James UMC Franklin Campus\, 1501 Franklin St\, Bellevue\, Nebraska\, 68005\, United States
ORGANIZER;CN="Yvonne Goodman":MAILTO:yeggoodman@gmail.com
END:VEVENT
BEGIN:VEVENT
DTSTART;TZID=America/Chicago:20280520T090000
DTEND;TZID=America/Chicago:20280520T110000
DTSTAMP:20260425T193735
CREATED:20250810T210729Z
LAST-MODIFIED:20260406T010057Z
UID:10010541-1842426000-1842433200@stjamesbellevue.com
SUMMARY:Saturday Quilters
DESCRIPTION: 
URL:https://stjamesbellevue.com/event/saturday-quilters/2028-05-20/
LOCATION:St. James UMC Franklin Campus\, 1501 Franklin St\, Bellevue\, Nebraska\, 68005\, United States
ORGANIZER;CN="Yvonne Goodman":MAILTO:yeggoodman@gmail.com
END:VEVENT
BEGIN:VEVENT
DTSTART;TZID=America/Chicago:20280617T090000
DTEND;TZID=America/Chicago:20280617T110000
DTSTAMP:20260425T193735
CREATED:20250810T210729Z
LAST-MODIFIED:20260406T010057Z
UID:10010542-1844845200-1844852400@stjamesbellevue.com
SUMMARY:Saturday Quilters
DESCRIPTION: 
URL:https://stjamesbellevue.com/event/saturday-quilters/2028-06-17/
LOCATION:St. James UMC Franklin Campus\, 1501 Franklin St\, Bellevue\, Nebraska\, 68005\, United States
ORGANIZER;CN="Yvonne Goodman":MAILTO:yeggoodman@gmail.com
END:VEVENT
BEGIN:VEVENT
DTSTART;TZID=America/Chicago:20280715T090000
DTEND;TZID=America/Chicago:20280715T110000
DTSTAMP:20260425T193735
CREATED:20250810T210729Z
LAST-MODIFIED:20260406T010057Z
UID:10010543-1847264400-1847271600@stjamesbellevue.com
SUMMARY:Saturday Quilters
DESCRIPTION: 
URL:https://stjamesbellevue.com/event/saturday-quilters/2028-07-15/
LOCATION:St. James UMC Franklin Campus\, 1501 Franklin St\, Bellevue\, Nebraska\, 68005\, United States
ORGANIZER;CN="Yvonne Goodman":MAILTO:yeggoodman@gmail.com
END:VEVENT
BEGIN:VEVENT
DTSTART;TZID=America/Chicago:20280819T090000
DTEND;TZID=America/Chicago:20280819T110000
DTSTAMP:20260425T193735
CREATED:20250810T210729Z
LAST-MODIFIED:20260406T010057Z
UID:10010544-1850288400-1850295600@stjamesbellevue.com
SUMMARY:Saturday Quilters
DESCRIPTION: 
URL:https://stjamesbellevue.com/event/saturday-quilters/2028-08-19/
LOCATION:St. James UMC Franklin Campus\, 1501 Franklin St\, Bellevue\, Nebraska\, 68005\, United States
ORGANIZER;CN="Yvonne Goodman":MAILTO:yeggoodman@gmail.com
END:VEVENT
BEGIN:VEVENT
DTSTART;TZID=America/Chicago:20280916T090000
DTEND;TZID=America/Chicago:20280916T110000
DTSTAMP:20260425T193735
CREATED:20250810T210729Z
LAST-MODIFIED:20260406T010057Z
UID:10010545-1852707600-1852714800@stjamesbellevue.com
SUMMARY:Saturday Quilters
DESCRIPTION: 
URL:https://stjamesbellevue.com/event/saturday-quilters/2028-09-16/
LOCATION:St. James UMC Franklin Campus\, 1501 Franklin St\, Bellevue\, Nebraska\, 68005\, United States
ORGANIZER;CN="Yvonne Goodman":MAILTO:yeggoodman@gmail.com
END:VEVENT
BEGIN:VEVENT
DTSTART;TZID=America/Chicago:20281021T090000
DTEND;TZID=America/Chicago:20281021T110000
DTSTAMP:20260425T193735
CREATED:20250810T210729Z
LAST-MODIFIED:20260406T010057Z
UID:10010546-1855731600-1855738800@stjamesbellevue.com
SUMMARY:Saturday Quilters
DESCRIPTION: 
URL:https://stjamesbellevue.com/event/saturday-quilters/2028-10-21/
LOCATION:St. James UMC Franklin Campus\, 1501 Franklin St\, Bellevue\, Nebraska\, 68005\, United States
ORGANIZER;CN="Yvonne Goodman":MAILTO:yeggoodman@gmail.com
END:VEVENT
END:VCALENDAR