BEGIN:VCALENDAR
VERSION:2.0
PRODID:-//St. James United Methodist Church - ECPv6.15.20//NONSGML v1.0//EN
CALSCALE:GREGORIAN
METHOD:PUBLISH
X-ORIGINAL-URL:https://stjamesbellevue.com
X-WR-CALDESC:Events for St. James United Methodist Church
REFRESH-INTERVAL;VALUE=DURATION:PT1H
X-Robots-Tag:noindex
X-PUBLISHED-TTL:PT1H
BEGIN:VTIMEZONE
TZID:America/Chicago
BEGIN:DAYLIGHT
TZOFFSETFROM:-0600
TZOFFSETTO:-0500
TZNAME:CDT
DTSTART:20250309T080000
END:DAYLIGHT
BEGIN:STANDARD
TZOFFSETFROM:-0500
TZOFFSETTO:-0600
TZNAME:CST
DTSTART:20251102T070000
END:STANDARD
BEGIN:DAYLIGHT
TZOFFSETFROM:-0600
TZOFFSETTO:-0500
TZNAME:CDT
DTSTART:20260308T080000
END:DAYLIGHT
BEGIN:STANDARD
TZOFFSETFROM:-0500
TZOFFSETTO:-0600
TZNAME:CST
DTSTART:20261101T070000
END:STANDARD
BEGIN:DAYLIGHT
TZOFFSETFROM:-0600
TZOFFSETTO:-0500
TZNAME:CDT
DTSTART:20270314T080000
END:DAYLIGHT
BEGIN:STANDARD
TZOFFSETFROM:-0500
TZOFFSETTO:-0600
TZNAME:CST
DTSTART:20271107T070000
END:STANDARD
BEGIN:DAYLIGHT
TZOFFSETFROM:-0600
TZOFFSETTO:-0500
TZNAME:CDT
DTSTART:20280312T080000
END:DAYLIGHT
BEGIN:STANDARD
TZOFFSETFROM:-0500
TZOFFSETTO:-0600
TZNAME:CST
DTSTART:20281105T070000
END:STANDARD
BEGIN:DAYLIGHT
TZOFFSETFROM:-0600
TZOFFSETTO:-0500
TZNAME:CDT
DTSTART:20290311T080000
END:DAYLIGHT
BEGIN:STANDARD
TZOFFSETFROM:-0500
TZOFFSETTO:-0600
TZNAME:CST
DTSTART:20291104T070000
END:STANDARD
END:VTIMEZONE
BEGIN:VEVENT
DTSTART;TZID=America/Chicago:20260428T140000
DTEND;TZID=America/Chicago:20260428T160000
DTSTAMP:20260425T140342
CREATED:20260322T221756Z
LAST-MODIFIED:20260322T221757Z
UID:10011642-1777384800-1777392000@stjamesbellevue.com
SUMMARY:Pieceable Kingdom Quilters
DESCRIPTION:  \n\n\n\n\n\n\n\n\n\n\n\n\n	Related
URL:https://stjamesbellevue.com/event/pieceable-kingdom-quilters-2/2026-04-28/
LOCATION:St. James UMC Franklin Campus\, 1501 Franklin St\, Bellevue\, Nebraska\, 68005\, United States
ORGANIZER;CN="Judy Shaw":MAILTO:jyshaw50@aol.com
END:VEVENT
BEGIN:VEVENT
DTSTART;TZID=America/Chicago:20260526T140000
DTEND;TZID=America/Chicago:20260526T160000
DTSTAMP:20260425T140342
CREATED:20260322T221756Z
LAST-MODIFIED:20260322T221757Z
UID:10011643-1779804000-1779811200@stjamesbellevue.com
SUMMARY:Pieceable Kingdom Quilters
DESCRIPTION:  \n\n\n\n\n\n\n\n\n\n\n\n\n	Related
URL:https://stjamesbellevue.com/event/pieceable-kingdom-quilters-2/2026-05-26/
LOCATION:St. James UMC Franklin Campus\, 1501 Franklin St\, Bellevue\, Nebraska\, 68005\, United States
ORGANIZER;CN="Judy Shaw":MAILTO:jyshaw50@aol.com
END:VEVENT
BEGIN:VEVENT
DTSTART;TZID=America/Chicago:20260623T140000
DTEND;TZID=America/Chicago:20260623T160000
DTSTAMP:20260425T140342
CREATED:20260322T221756Z
LAST-MODIFIED:20260322T221757Z
UID:10011644-1782223200-1782230400@stjamesbellevue.com
SUMMARY:Pieceable Kingdom Quilters
DESCRIPTION:  \n\n\n\n\n\n\n\n\n\n\n\n\n	Related
URL:https://stjamesbellevue.com/event/pieceable-kingdom-quilters-2/2026-06-23/
LOCATION:St. James UMC Franklin Campus\, 1501 Franklin St\, Bellevue\, Nebraska\, 68005\, United States
ORGANIZER;CN="Judy Shaw":MAILTO:jyshaw50@aol.com
END:VEVENT
BEGIN:VEVENT
DTSTART;TZID=America/Chicago:20260728T140000
DTEND;TZID=America/Chicago:20260728T160000
DTSTAMP:20260425T140342
CREATED:20260322T221756Z
LAST-MODIFIED:20260322T221757Z
UID:10011645-1785247200-1785254400@stjamesbellevue.com
SUMMARY:Pieceable Kingdom Quilters
DESCRIPTION:  \n\n\n\n\n\n\n\n\n\n\n\n\n	Related
URL:https://stjamesbellevue.com/event/pieceable-kingdom-quilters-2/2026-07-28/
LOCATION:St. James UMC Franklin Campus\, 1501 Franklin St\, Bellevue\, Nebraska\, 68005\, United States
ORGANIZER;CN="Judy Shaw":MAILTO:jyshaw50@aol.com
END:VEVENT
BEGIN:VEVENT
DTSTART;TZID=America/Chicago:20260825T140000
DTEND;TZID=America/Chicago:20260825T160000
DTSTAMP:20260425T140342
CREATED:20260322T221756Z
LAST-MODIFIED:20260322T221757Z
UID:10011646-1787666400-1787673600@stjamesbellevue.com
SUMMARY:Pieceable Kingdom Quilters
DESCRIPTION:  \n\n\n\n\n\n\n\n\n\n\n\n\n	Related
URL:https://stjamesbellevue.com/event/pieceable-kingdom-quilters-2/2026-08-25/
LOCATION:St. James UMC Franklin Campus\, 1501 Franklin St\, Bellevue\, Nebraska\, 68005\, United States
ORGANIZER;CN="Judy Shaw":MAILTO:jyshaw50@aol.com
END:VEVENT
BEGIN:VEVENT
DTSTART;TZID=America/Chicago:20260922T140000
DTEND;TZID=America/Chicago:20260922T160000
DTSTAMP:20260425T140342
CREATED:20260322T221756Z
LAST-MODIFIED:20260322T221757Z
UID:10011647-1790085600-1790092800@stjamesbellevue.com
SUMMARY:Pieceable Kingdom Quilters
DESCRIPTION:  \n\n\n\n\n\n\n\n\n\n\n\n\n	Related
URL:https://stjamesbellevue.com/event/pieceable-kingdom-quilters-2/2026-09-22/
LOCATION:St. James UMC Franklin Campus\, 1501 Franklin St\, Bellevue\, Nebraska\, 68005\, United States
ORGANIZER;CN="Judy Shaw":MAILTO:jyshaw50@aol.com
END:VEVENT
BEGIN:VEVENT
DTSTART;TZID=America/Chicago:20261027T140000
DTEND;TZID=America/Chicago:20261027T160000
DTSTAMP:20260425T140342
CREATED:20260322T221756Z
LAST-MODIFIED:20260322T221757Z
UID:10011648-1793109600-1793116800@stjamesbellevue.com
SUMMARY:Pieceable Kingdom Quilters
DESCRIPTION:  \n\n\n\n\n\n\n\n\n\n\n\n\n	Related
URL:https://stjamesbellevue.com/event/pieceable-kingdom-quilters-2/2026-10-27/
LOCATION:St. James UMC Franklin Campus\, 1501 Franklin St\, Bellevue\, Nebraska\, 68005\, United States
ORGANIZER;CN="Judy Shaw":MAILTO:jyshaw50@aol.com
END:VEVENT
BEGIN:VEVENT
DTSTART;TZID=America/Chicago:20261124T140000
DTEND;TZID=America/Chicago:20261124T160000
DTSTAMP:20260425T140342
CREATED:20260322T221756Z
LAST-MODIFIED:20260322T221757Z
UID:10011649-1795528800-1795536000@stjamesbellevue.com
SUMMARY:Pieceable Kingdom Quilters
DESCRIPTION:  \n\n\n\n\n\n\n\n\n\n\n\n\n	Related
URL:https://stjamesbellevue.com/event/pieceable-kingdom-quilters-2/2026-11-24/
LOCATION:St. James UMC Franklin Campus\, 1501 Franklin St\, Bellevue\, Nebraska\, 68005\, United States
ORGANIZER;CN="Judy Shaw":MAILTO:jyshaw50@aol.com
END:VEVENT
BEGIN:VEVENT
DTSTART;TZID=America/Chicago:20261222T140000
DTEND;TZID=America/Chicago:20261222T160000
DTSTAMP:20260425T140342
CREATED:20260322T221756Z
LAST-MODIFIED:20260322T221757Z
UID:10011650-1797948000-1797955200@stjamesbellevue.com
SUMMARY:Pieceable Kingdom Quilters
DESCRIPTION:  \n\n\n\n\n\n\n\n\n\n\n\n\n	Related
URL:https://stjamesbellevue.com/event/pieceable-kingdom-quilters-2/2026-12-22/
LOCATION:St. James UMC Franklin Campus\, 1501 Franklin St\, Bellevue\, Nebraska\, 68005\, United States
ORGANIZER;CN="Judy Shaw":MAILTO:jyshaw50@aol.com
END:VEVENT
BEGIN:VEVENT
DTSTART;TZID=America/Chicago:20270126T140000
DTEND;TZID=America/Chicago:20270126T160000
DTSTAMP:20260425T140342
CREATED:20260322T221756Z
LAST-MODIFIED:20260322T221757Z
UID:10011651-1800972000-1800979200@stjamesbellevue.com
SUMMARY:Pieceable Kingdom Quilters
DESCRIPTION:  \n\n\n\n\n\n\n\n\n\n\n\n\n	Related
URL:https://stjamesbellevue.com/event/pieceable-kingdom-quilters-2/2027-01-26/
LOCATION:St. James UMC Franklin Campus\, 1501 Franklin St\, Bellevue\, Nebraska\, 68005\, United States
ORGANIZER;CN="Judy Shaw":MAILTO:jyshaw50@aol.com
END:VEVENT
BEGIN:VEVENT
DTSTART;TZID=America/Chicago:20270223T140000
DTEND;TZID=America/Chicago:20270223T160000
DTSTAMP:20260425T140342
CREATED:20260322T221756Z
LAST-MODIFIED:20260322T221757Z
UID:10011652-1803391200-1803398400@stjamesbellevue.com
SUMMARY:Pieceable Kingdom Quilters
DESCRIPTION:  \n\n\n\n\n\n\n\n\n\n\n\n\n	Related
URL:https://stjamesbellevue.com/event/pieceable-kingdom-quilters-2/2027-02-23/
LOCATION:St. James UMC Franklin Campus\, 1501 Franklin St\, Bellevue\, Nebraska\, 68005\, United States
ORGANIZER;CN="Judy Shaw":MAILTO:jyshaw50@aol.com
END:VEVENT
BEGIN:VEVENT
DTSTART;TZID=America/Chicago:20270323T140000
DTEND;TZID=America/Chicago:20270323T160000
DTSTAMP:20260425T140342
CREATED:20260322T221756Z
LAST-MODIFIED:20260322T221757Z
UID:10011653-1805810400-1805817600@stjamesbellevue.com
SUMMARY:Pieceable Kingdom Quilters
DESCRIPTION:  \n\n\n\n\n\n\n\n\n\n\n\n\n	Related
URL:https://stjamesbellevue.com/event/pieceable-kingdom-quilters-2/2027-03-23/
LOCATION:St. James UMC Franklin Campus\, 1501 Franklin St\, Bellevue\, Nebraska\, 68005\, United States
ORGANIZER;CN="Judy Shaw":MAILTO:jyshaw50@aol.com
END:VEVENT
BEGIN:VEVENT
DTSTART;TZID=America/Chicago:20270427T140000
DTEND;TZID=America/Chicago:20270427T160000
DTSTAMP:20260425T140342
CREATED:20260322T221756Z
LAST-MODIFIED:20260322T221757Z
UID:10011654-1808834400-1808841600@stjamesbellevue.com
SUMMARY:Pieceable Kingdom Quilters
DESCRIPTION:  \n\n\n\n\n\n\n\n\n\n\n\n\n	Related
URL:https://stjamesbellevue.com/event/pieceable-kingdom-quilters-2/2027-04-27/
LOCATION:St. James UMC Franklin Campus\, 1501 Franklin St\, Bellevue\, Nebraska\, 68005\, United States
ORGANIZER;CN="Judy Shaw":MAILTO:jyshaw50@aol.com
END:VEVENT
BEGIN:VEVENT
DTSTART;TZID=America/Chicago:20270525T140000
DTEND;TZID=America/Chicago:20270525T160000
DTSTAMP:20260425T140342
CREATED:20260322T221756Z
LAST-MODIFIED:20260322T221757Z
UID:10011655-1811253600-1811260800@stjamesbellevue.com
SUMMARY:Pieceable Kingdom Quilters
DESCRIPTION:  \n\n\n\n\n\n\n\n\n\n\n\n\n	Related
URL:https://stjamesbellevue.com/event/pieceable-kingdom-quilters-2/2027-05-25/
LOCATION:St. James UMC Franklin Campus\, 1501 Franklin St\, Bellevue\, Nebraska\, 68005\, United States
ORGANIZER;CN="Judy Shaw":MAILTO:jyshaw50@aol.com
END:VEVENT
BEGIN:VEVENT
DTSTART;TZID=America/Chicago:20270622T140000
DTEND;TZID=America/Chicago:20270622T160000
DTSTAMP:20260425T140342
CREATED:20260322T221756Z
LAST-MODIFIED:20260322T221757Z
UID:10011656-1813672800-1813680000@stjamesbellevue.com
SUMMARY:Pieceable Kingdom Quilters
DESCRIPTION:  \n\n\n\n\n\n\n\n\n\n\n\n\n	Related
URL:https://stjamesbellevue.com/event/pieceable-kingdom-quilters-2/2027-06-22/
LOCATION:St. James UMC Franklin Campus\, 1501 Franklin St\, Bellevue\, Nebraska\, 68005\, United States
ORGANIZER;CN="Judy Shaw":MAILTO:jyshaw50@aol.com
END:VEVENT
BEGIN:VEVENT
DTSTART;TZID=America/Chicago:20270727T140000
DTEND;TZID=America/Chicago:20270727T160000
DTSTAMP:20260425T140342
CREATED:20260322T221756Z
LAST-MODIFIED:20260322T221757Z
UID:10011657-1816696800-1816704000@stjamesbellevue.com
SUMMARY:Pieceable Kingdom Quilters
DESCRIPTION:  \n\n\n\n\n\n\n\n\n\n\n\n\n	Related
URL:https://stjamesbellevue.com/event/pieceable-kingdom-quilters-2/2027-07-27/
LOCATION:St. James UMC Franklin Campus\, 1501 Franklin St\, Bellevue\, Nebraska\, 68005\, United States
ORGANIZER;CN="Judy Shaw":MAILTO:jyshaw50@aol.com
END:VEVENT
BEGIN:VEVENT
DTSTART;TZID=America/Chicago:20270824T140000
DTEND;TZID=America/Chicago:20270824T160000
DTSTAMP:20260425T140343
CREATED:20260322T221756Z
LAST-MODIFIED:20260322T221757Z
UID:10011658-1819116000-1819123200@stjamesbellevue.com
SUMMARY:Pieceable Kingdom Quilters
DESCRIPTION:  \n\n\n\n\n\n\n\n\n\n\n\n\n	Related
URL:https://stjamesbellevue.com/event/pieceable-kingdom-quilters-2/2027-08-24/
LOCATION:St. James UMC Franklin Campus\, 1501 Franklin St\, Bellevue\, Nebraska\, 68005\, United States
ORGANIZER;CN="Judy Shaw":MAILTO:jyshaw50@aol.com
END:VEVENT
BEGIN:VEVENT
DTSTART;TZID=America/Chicago:20270928T140000
DTEND;TZID=America/Chicago:20270928T160000
DTSTAMP:20260425T140343
CREATED:20260322T221756Z
LAST-MODIFIED:20260322T221757Z
UID:10011659-1822140000-1822147200@stjamesbellevue.com
SUMMARY:Pieceable Kingdom Quilters
DESCRIPTION:  \n\n\n\n\n\n\n\n\n\n\n\n\n	Related
URL:https://stjamesbellevue.com/event/pieceable-kingdom-quilters-2/2027-09-28/
LOCATION:St. James UMC Franklin Campus\, 1501 Franklin St\, Bellevue\, Nebraska\, 68005\, United States
ORGANIZER;CN="Judy Shaw":MAILTO:jyshaw50@aol.com
END:VEVENT
BEGIN:VEVENT
DTSTART;TZID=America/Chicago:20271026T140000
DTEND;TZID=America/Chicago:20271026T160000
DTSTAMP:20260425T140343
CREATED:20260322T221756Z
LAST-MODIFIED:20260322T221757Z
UID:10011660-1824559200-1824566400@stjamesbellevue.com
SUMMARY:Pieceable Kingdom Quilters
DESCRIPTION:  \n\n\n\n\n\n\n\n\n\n\n\n\n	Related
URL:https://stjamesbellevue.com/event/pieceable-kingdom-quilters-2/2027-10-26/
LOCATION:St. James UMC Franklin Campus\, 1501 Franklin St\, Bellevue\, Nebraska\, 68005\, United States
ORGANIZER;CN="Judy Shaw":MAILTO:jyshaw50@aol.com
END:VEVENT
BEGIN:VEVENT
DTSTART;TZID=America/Chicago:20271123T140000
DTEND;TZID=America/Chicago:20271123T160000
DTSTAMP:20260425T140343
CREATED:20260322T221756Z
LAST-MODIFIED:20260322T221757Z
UID:10011661-1826978400-1826985600@stjamesbellevue.com
SUMMARY:Pieceable Kingdom Quilters
DESCRIPTION:  \n\n\n\n\n\n\n\n\n\n\n\n\n	Related
URL:https://stjamesbellevue.com/event/pieceable-kingdom-quilters-2/2027-11-23/
LOCATION:St. James UMC Franklin Campus\, 1501 Franklin St\, Bellevue\, Nebraska\, 68005\, United States
ORGANIZER;CN="Judy Shaw":MAILTO:jyshaw50@aol.com
END:VEVENT
BEGIN:VEVENT
DTSTART;TZID=America/Chicago:20271228T140000
DTEND;TZID=America/Chicago:20271228T160000
DTSTAMP:20260425T140343
CREATED:20260322T221756Z
LAST-MODIFIED:20260322T221757Z
UID:10011662-1830002400-1830009600@stjamesbellevue.com
SUMMARY:Pieceable Kingdom Quilters
DESCRIPTION:  \n\n\n\n\n\n\n\n\n\n\n\n\n	Related
URL:https://stjamesbellevue.com/event/pieceable-kingdom-quilters-2/2027-12-28/
LOCATION:St. James UMC Franklin Campus\, 1501 Franklin St\, Bellevue\, Nebraska\, 68005\, United States
ORGANIZER;CN="Judy Shaw":MAILTO:jyshaw50@aol.com
END:VEVENT
BEGIN:VEVENT
DTSTART;TZID=America/Chicago:20280125T140000
DTEND;TZID=America/Chicago:20280125T160000
DTSTAMP:20260425T140343
CREATED:20260322T221756Z
LAST-MODIFIED:20260322T221757Z
UID:10011663-1832421600-1832428800@stjamesbellevue.com
SUMMARY:Pieceable Kingdom Quilters
DESCRIPTION:  \n\n\n\n\n\n\n\n\n\n\n\n\n	Related
URL:https://stjamesbellevue.com/event/pieceable-kingdom-quilters-2/2028-01-25/
LOCATION:St. James UMC Franklin Campus\, 1501 Franklin St\, Bellevue\, Nebraska\, 68005\, United States
ORGANIZER;CN="Judy Shaw":MAILTO:jyshaw50@aol.com
END:VEVENT
BEGIN:VEVENT
DTSTART;TZID=America/Chicago:20280222T140000
DTEND;TZID=America/Chicago:20280222T160000
DTSTAMP:20260425T140343
CREATED:20260322T221756Z
LAST-MODIFIED:20260322T221757Z
UID:10011664-1834840800-1834848000@stjamesbellevue.com
SUMMARY:Pieceable Kingdom Quilters
DESCRIPTION:  \n\n\n\n\n\n\n\n\n\n\n\n\n	Related
URL:https://stjamesbellevue.com/event/pieceable-kingdom-quilters-2/2028-02-22/
LOCATION:St. James UMC Franklin Campus\, 1501 Franklin St\, Bellevue\, Nebraska\, 68005\, United States
ORGANIZER;CN="Judy Shaw":MAILTO:jyshaw50@aol.com
END:VEVENT
BEGIN:VEVENT
DTSTART;TZID=America/Chicago:20280328T140000
DTEND;TZID=America/Chicago:20280328T160000
DTSTAMP:20260425T140343
CREATED:20260322T221756Z
LAST-MODIFIED:20260322T221757Z
UID:10011665-1837864800-1837872000@stjamesbellevue.com
SUMMARY:Pieceable Kingdom Quilters
DESCRIPTION:  \n\n\n\n\n\n\n\n\n\n\n\n\n	Related
URL:https://stjamesbellevue.com/event/pieceable-kingdom-quilters-2/2028-03-28/
LOCATION:St. James UMC Franklin Campus\, 1501 Franklin St\, Bellevue\, Nebraska\, 68005\, United States
ORGANIZER;CN="Judy Shaw":MAILTO:jyshaw50@aol.com
END:VEVENT
BEGIN:VEVENT
DTSTART;TZID=America/Chicago:20280425T140000
DTEND;TZID=America/Chicago:20280425T160000
DTSTAMP:20260425T140343
CREATED:20260322T221756Z
LAST-MODIFIED:20260322T221757Z
UID:10011666-1840284000-1840291200@stjamesbellevue.com
SUMMARY:Pieceable Kingdom Quilters
DESCRIPTION:  \n\n\n\n\n\n\n\n\n\n\n\n\n	Related
URL:https://stjamesbellevue.com/event/pieceable-kingdom-quilters-2/2028-04-25/
LOCATION:St. James UMC Franklin Campus\, 1501 Franklin St\, Bellevue\, Nebraska\, 68005\, United States
ORGANIZER;CN="Judy Shaw":MAILTO:jyshaw50@aol.com
END:VEVENT
BEGIN:VEVENT
DTSTART;TZID=America/Chicago:20280523T140000
DTEND;TZID=America/Chicago:20280523T160000
DTSTAMP:20260425T140343
CREATED:20260322T221756Z
LAST-MODIFIED:20260322T221757Z
UID:10011667-1842703200-1842710400@stjamesbellevue.com
SUMMARY:Pieceable Kingdom Quilters
DESCRIPTION:  \n\n\n\n\n\n\n\n\n\n\n\n\n	Related
URL:https://stjamesbellevue.com/event/pieceable-kingdom-quilters-2/2028-05-23/
LOCATION:St. James UMC Franklin Campus\, 1501 Franklin St\, Bellevue\, Nebraska\, 68005\, United States
ORGANIZER;CN="Judy Shaw":MAILTO:jyshaw50@aol.com
END:VEVENT
BEGIN:VEVENT
DTSTART;TZID=America/Chicago:20280627T140000
DTEND;TZID=America/Chicago:20280627T160000
DTSTAMP:20260425T140343
CREATED:20260322T221756Z
LAST-MODIFIED:20260322T221757Z
UID:10011668-1845727200-1845734400@stjamesbellevue.com
SUMMARY:Pieceable Kingdom Quilters
DESCRIPTION:  \n\n\n\n\n\n\n\n\n\n\n\n\n	Related
URL:https://stjamesbellevue.com/event/pieceable-kingdom-quilters-2/2028-06-27/
LOCATION:St. James UMC Franklin Campus\, 1501 Franklin St\, Bellevue\, Nebraska\, 68005\, United States
ORGANIZER;CN="Judy Shaw":MAILTO:jyshaw50@aol.com
END:VEVENT
BEGIN:VEVENT
DTSTART;TZID=America/Chicago:20280725T140000
DTEND;TZID=America/Chicago:20280725T160000
DTSTAMP:20260425T140343
CREATED:20260322T221756Z
LAST-MODIFIED:20260322T221757Z
UID:10011669-1848146400-1848153600@stjamesbellevue.com
SUMMARY:Pieceable Kingdom Quilters
DESCRIPTION:  \n\n\n\n\n\n\n\n\n\n\n\n\n	Related
URL:https://stjamesbellevue.com/event/pieceable-kingdom-quilters-2/2028-07-25/
LOCATION:St. James UMC Franklin Campus\, 1501 Franklin St\, Bellevue\, Nebraska\, 68005\, United States
ORGANIZER;CN="Judy Shaw":MAILTO:jyshaw50@aol.com
END:VEVENT
BEGIN:VEVENT
DTSTART;TZID=America/Chicago:20280822T140000
DTEND;TZID=America/Chicago:20280822T160000
DTSTAMP:20260425T140343
CREATED:20260322T221756Z
LAST-MODIFIED:20260322T221757Z
UID:10011670-1850565600-1850572800@stjamesbellevue.com
SUMMARY:Pieceable Kingdom Quilters
DESCRIPTION:  \n\n\n\n\n\n\n\n\n\n\n\n\n	Related
URL:https://stjamesbellevue.com/event/pieceable-kingdom-quilters-2/2028-08-22/
LOCATION:St. James UMC Franklin Campus\, 1501 Franklin St\, Bellevue\, Nebraska\, 68005\, United States
ORGANIZER;CN="Judy Shaw":MAILTO:jyshaw50@aol.com
END:VEVENT
BEGIN:VEVENT
DTSTART;TZID=America/Chicago:20280926T140000
DTEND;TZID=America/Chicago:20280926T160000
DTSTAMP:20260425T140343
CREATED:20260322T221756Z
LAST-MODIFIED:20260322T221757Z
UID:10011671-1853589600-1853596800@stjamesbellevue.com
SUMMARY:Pieceable Kingdom Quilters
DESCRIPTION:  \n\n\n\n\n\n\n\n\n\n\n\n\n	Related
URL:https://stjamesbellevue.com/event/pieceable-kingdom-quilters-2/2028-09-26/
LOCATION:St. James UMC Franklin Campus\, 1501 Franklin St\, Bellevue\, Nebraska\, 68005\, United States
ORGANIZER;CN="Judy Shaw":MAILTO:jyshaw50@aol.com
END:VEVENT
END:VCALENDAR